[dpdk-test-report] |SUCCESS| pw83933 [PATCH] [v1] net/iavf: fix cannot release mbufs issue

dpdklab at iol.unh.edu dpdklab at iol.unh.edu
Wed Nov 11 04:57:10 CET 2020


Test-Label: iol-testing
Test-Status: SUCCESS
http://dpdk.org/patch/83933

_Testing PASS_

Submitter: Ting Xu <ting.xu at intel.com>
Date: Wednesday, November 11 2020 03:06:51 
DPDK git baseline: Repo:dpdk
  Branch: master
  CommitID:a8adac0bc098dad9ca7f7977b6204b29669244e8

83933 --> testing pass

Test environment and result as below:

+---------------------+--------------------+----------------+
|     Environment     | dpdk_meson_compile | dpdk_unit_test |
+=====================+====================+================+
| Windows Server 2019 | PASS               | SKIPPED        |
+---------------------+--------------------+----------------+
| FreeBSD 11.2        | PASS               | SKIPPED        |
+---------------------+--------------------+----------------+
| Ubuntu 18.04        | PASS               | PASS           |
+---------------------+--------------------+----------------+
| CentOS 8            | PASS               | SKIPPED        |
+---------------------+--------------------+----------------+
| Fedora 31           | PASS               | SKIPPED        |
+---------------------+--------------------+----------------+
| openSUSE Leap 15    | PASS               | SKIPPED        |
+---------------------+--------------------+----------------+
| Arch Linux          | PASS               | SKIPPED        |
+---------------------+--------------------+----------------+

Windows Server 2019
	Kernel: 10.0
	Compiler: clang 9.0

FreeBSD 11.2
	Kernel: 11.2
	Compiler: gcc 8.3

Ubuntu 18.04
	Kernel: 4.15.0-generic
	Compiler: gcc 7.5

CentOS 8
	Kernel: 4.18.0.el8_0
	Compiler: gcc 8.3.1

Fedora 31
	Kernel: 5.3.16
	Compiler: gcc 9.2.1

openSUSE Leap 15
	Kernel: 4.12.14
	Compiler: gcc 7.4.1

Arch Linux
	Kernel: latest
	Compiler: gcc latest

To view detailed results, visit:
https://lab.dpdk.org/results/dashboard/patchsets/14412/

UNH-IOL DPDK Community Lab

To manage your email subscriptions, visit: 
https://lab.dpdk.org/results/dashboard/preferences/subscriptions/


More information about the test-report mailing list