[dpdk-test-report] |WARNING| pw79525 [PATCH] pipeline: fix build with glibc < 2.26
dpdklab at iol.unh.edu
dpdklab at iol.unh.edu
Tue Oct 6 17:49:25 CEST 2020
Test-Label: iol-testing
Test-Status: WARNING
http://dpdk.org/patch/79525
_Testing issues_
Submitter: David Marchand <david.marchand at redhat.com>
Date: Friday, October 02 2020 08:28:31
DPDK git baseline: Repo:dpdk
Branch: master
CommitID:c2b603bdf433f0ae4c4a63dcaa660c8d1792bfe8
79525 --> testing fail
Test environment and result as below:
+---------------------+--------------------+----------------+
| Environment | dpdk_meson_compile | dpdk_unit_test |
+=====================+====================+================+
| openSUSE Leap 15 | PASS | SKIPPED |
+---------------------+--------------------+----------------+
| Windows Server 2019 | PASS | SKIPPED |
+---------------------+--------------------+----------------+
| FreeBSD 11.2 | PASS | SKIPPED |
+---------------------+--------------------+----------------+
| CentOS 8 | PASS | SKIPPED |
+---------------------+--------------------+----------------+
| Fedora 31 | PASS | SKIPPED |
+---------------------+--------------------+----------------+
| Fedora Rawhide | WARN | SKIPPED |
+---------------------+--------------------+----------------+
| Arch Linux | PASS | SKIPPED |
+---------------------+--------------------+----------------+
| Ubuntu 18.04 | PASS | PASS |
+---------------------+--------------------+----------------+
openSUSE Leap 15
Kernel: 4.12.14
Compiler: gcc 7.4.1
Windows Server 2019
Kernel: 10.0
Compiler: clang 9.0
FreeBSD 11.2
Kernel: 11.2
Compiler: gcc 8.3
CentOS 8
Kernel: 4.18.0.el8_0
Compiler: gcc 8.3.1
Fedora 31
Kernel: 5.3.16
Compiler: gcc 9.2.1
Fedora Rawhide
Kernel: 5.6.8
Compiler: gcc 10.2.1
Arch Linux
Kernel: latest
Compiler: gcc latest
Ubuntu 18.04
Kernel: 4.15.0-generic
Compiler: gcc 7.4
To view detailed results, visit:
https://lab.dpdk.org/results/dashboard/patchsets/13422/
UNH-IOL DPDK Community Lab
To manage your email subscriptions, visit:
https://lab.dpdk.org/results/dashboard/preferences/subscriptions/
More information about the test-report
mailing list