[dpdk-test-report] |SUCCESS| pw81790-81795 [PATCH] [v2, 6/6] net/mlx5: not split hairpin flow in explicit mode
dpdklab at iol.unh.edu
dpdklab at iol.unh.edu
Thu Oct 22 19:59:36 CEST 2020
Test-Label: iol-testing
Test-Status: SUCCESS
http://dpdk.org/patch/81795
_Testing PASS_
Submitter: Bing Zhao <bingz at nvidia.com>
Date: Thursday, October 22 2020 14:06:37
DPDK git baseline: Repo:dpdk
Branch: master
CommitID:4669252e0421aaf06ff86d5339f970ebe72cbf22
81790-81795 --> testing pass
Test environment and result as below:
+---------------------+--------------------+----------------+
| Environment | dpdk_meson_compile | dpdk_unit_test |
+=====================+====================+================+
| Windows Server 2019 | PASS | SKIPPED |
+---------------------+--------------------+----------------+
| FreeBSD 11.2 | PASS | SKIPPED |
+---------------------+--------------------+----------------+
| Fedora 31 | PASS | SKIPPED |
+---------------------+--------------------+----------------+
| Ubuntu 18.04 | PASS | PASS |
+---------------------+--------------------+----------------+
| CentOS 8 | PASS | SKIPPED |
+---------------------+--------------------+----------------+
| openSUSE Leap 15 | PASS | SKIPPED |
+---------------------+--------------------+----------------+
| Arch Linux | PASS | SKIPPED |
+---------------------+--------------------+----------------+
Windows Server 2019
Kernel: 10.0
Compiler: clang 9.0
FreeBSD 11.2
Kernel: 11.2
Compiler: gcc 8.3
Fedora 31
Kernel: 5.3.16
Compiler: gcc 9.2.1
Ubuntu 18.04
Kernel: 4.15.0-generic
Compiler: gcc 7.4
CentOS 8
Kernel: 4.18.0.el8_0
Compiler: gcc 8.3.1
openSUSE Leap 15
Kernel: 4.12.14
Compiler: gcc 7.4.1
Arch Linux
Kernel: latest
Compiler: gcc latest
To view detailed results, visit:
https://lab.dpdk.org/results/dashboard/patchsets/13923/
UNH-IOL DPDK Community Lab
To manage your email subscriptions, visit:
https://lab.dpdk.org/results/dashboard/preferences/subscriptions/
More information about the test-report
mailing list