[dpdk-test-report] |SUCCESS| pw82828-82831 [PATCH] [4/4] test/lpm: avoid code duplication in rcu qsbr perf
dpdklab at iol.unh.edu
dpdklab at iol.unh.edu
Thu Oct 29 18:52:06 CET 2020
Test-Label: iol-testing
Test-Status: SUCCESS
http://dpdk.org/patch/82831
_Testing PASS_
Submitter: Dharmik Thakkar <dharmik.thakkar at arm.com>
Date: Thursday, October 29 2020 15:36:34
DPDK git baseline: Repo:dpdk
Branch: master
CommitID:eda44ced0ec14677de6944c76955621c6182b2df
82828-82831 --> testing pass
Test environment and result as below:
+---------------------+--------------------+
| Environment | dpdk_meson_compile |
+=====================+====================+
| Windows Server 2019 | PASS |
+---------------------+--------------------+
| FreeBSD 11.2 | PASS |
+---------------------+--------------------+
| CentOS 8 | PASS |
+---------------------+--------------------+
| Fedora 31 | PASS |
+---------------------+--------------------+
| openSUSE Leap 15 | PASS |
+---------------------+--------------------+
| Arch Linux | PASS |
+---------------------+--------------------+
Windows Server 2019
Kernel: 10.0
Compiler: clang 9.0
FreeBSD 11.2
Kernel: 11.2
Compiler: gcc 8.3
CentOS 8
Kernel: 4.18.0.el8_0
Compiler: gcc 8.3.1
Fedora 31
Kernel: 5.3.16
Compiler: gcc 9.2.1
openSUSE Leap 15
Kernel: 4.12.14
Compiler: gcc 7.4.1
Arch Linux
Kernel: latest
Compiler: gcc latest
To view detailed results, visit:
https://lab.dpdk.org/results/dashboard/patchsets/14143/
UNH-IOL DPDK Community Lab
To manage your email subscriptions, visit:
https://lab.dpdk.org/results/dashboard/preferences/subscriptions/
More information about the test-report
mailing list