[dpdk-test-report] |SUCCESS| pw77036-77037 [PATCH] [v2, 2/2] doc: add l3fwd-regex application user guide

dpdklab at iol.unh.edu dpdklab at iol.unh.edu
Wed Sep 9 15:13:39 CEST 2020


Test-Label: iol-testing
Test-Status: SUCCESS
http://dpdk.org/patch/77037

_Testing PASS_

Submitter: Guy Kaneti <guyk at marvell.com>
Date: Wednesday, September 09 2020 12:08:53 
DPDK git baseline: Repo:dpdk
  Branch: master
  CommitID:cd6f1d7a5fde76c4f1e771de9f7aafdf59d691e4

77036-77037 --> testing pass

Test environment and result as below:

+---------------------+--------------------+-------------------+----------------+------------------+
|     Environment     | dpdk_meson_compile | dpdk_compile_spdk | dpdk_unit_test | dpdk_compile_ovs |
+=====================+====================+===================+================+==================+
| Windows Server 2019 | PASS               | SKIPPED           | SKIPPED        | SKIPPED          |
+---------------------+--------------------+-------------------+----------------+------------------+
| FreeBSD 11.2        | PASS               | PASS              | SKIPPED        | SKIPPED          |
+---------------------+--------------------+-------------------+----------------+------------------+
| Ubuntu 18.04        | PASS               | PASS              | PASS           | PASS             |
+---------------------+--------------------+-------------------+----------------+------------------+
| CentOS 8            | PASS               | PASS              | SKIPPED        | PASS             |
+---------------------+--------------------+-------------------+----------------+------------------+
| Fedora 31           | PASS               | PASS              | SKIPPED        | PASS             |
+---------------------+--------------------+-------------------+----------------+------------------+
| openSUSE Leap 15    | PASS               | PASS              | SKIPPED        | PASS             |
+---------------------+--------------------+-------------------+----------------+------------------+
| Arch Linux          | PASS               | SKIPPED           | SKIPPED        | PASS             |
+---------------------+--------------------+-------------------+----------------+------------------+

Windows Server 2019
	Kernel: 10.0
	Compiler: clang 9.0

FreeBSD 11.2
	Kernel: 11.2
	Compiler: gcc 8.3

Ubuntu 18.04
	Kernel: 4.15.0-generic
	Compiler: gcc 7.4

CentOS 8
	Kernel: 4.18.0.el8_0
	Compiler: gcc 8.3.1

Fedora 31
	Kernel: 5.3.16
	Compiler: gcc 9.2.1

openSUSE Leap 15
	Kernel: 4.12.14
	Compiler: gcc 7.4.1

Arch Linux
	Kernel: latest
	Compiler: gcc latest

To view detailed results, visit:
https://lab.dpdk.org/results/dashboard/patchsets/12927/

UNH-IOL DPDK Community Lab

To manage your email subscriptions, visit: 
https://lab.dpdk.org/results/dashboard/preferences/subscriptions/


More information about the test-report mailing list