[dpdk-test-report] |SUCCESS| pw91608 [PATCH] buildtools: fix all drivers disabled on Windows
dpdklab at iol.unh.edu
dpdklab at iol.unh.edu
Sun Apr 18 11:20:32 CEST 2021
Test-Label: iol-testing
Test-Status: SUCCESS
http://dpdk.org/patch/91608
_Testing PASS_
Submitter: Dmitry Kozlyuk <dmitry.kozliuk at gmail.com>
Date: Thursday, April 15 2021 21:36:29
DPDK git baseline: Repo:dpdk
Branch: master
CommitID:8f5ea6a464ac5894970dc6463f85538f2f5dc2bb
91608 --> testing pass
Test environment and result as below:
+---------------------+----------------------+-------------------+--------------------+----------------+
| Environment | dpdk_mingw64_compile | dpdk_compile_spdk | dpdk_meson_compile | dpdk_unit_test |
+=====================+======================+===================+====================+================+
| Windows Server 2019 | PASS | SKIPPED | PASS | SKIPPED |
+---------------------+----------------------+-------------------+--------------------+----------------+
| Ubuntu 18.04 | SKIPPED | PASS | PASS | PASS |
+---------------------+----------------------+-------------------+--------------------+----------------+
| Fedora 31 | SKIPPED | SKIPPED | PASS | SKIPPED |
+---------------------+----------------------+-------------------+--------------------+----------------+
| Fedora 32 | SKIPPED | SKIPPED | PASS | SKIPPED |
+---------------------+----------------------+-------------------+--------------------+----------------+
| RHEL8 | SKIPPED | SKIPPED | PASS | SKIPPED |
+---------------------+----------------------+-------------------+--------------------+----------------+
| CentOS Stream 8 | SKIPPED | SKIPPED | PASS | SKIPPED |
+---------------------+----------------------+-------------------+--------------------+----------------+
| RHEL 7 | SKIPPED | SKIPPED | PASS | SKIPPED |
+---------------------+----------------------+-------------------+--------------------+----------------+
| Arch Linux | SKIPPED | SKIPPED | PASS | SKIPPED |
+---------------------+----------------------+-------------------+--------------------+----------------+
| Ubuntu 20.04 | SKIPPED | SKIPPED | PASS | SKIPPED |
+---------------------+----------------------+-------------------+--------------------+----------------+
| openSUSE Leap 15 | SKIPPED | SKIPPED | PASS | SKIPPED |
+---------------------+----------------------+-------------------+--------------------+----------------+
| FreeBSD 11.2 | SKIPPED | SKIPPED | PASS | SKIPPED |
+---------------------+----------------------+-------------------+--------------------+----------------+
| Ubuntu 18.04 ARM | SKIPPED | SKIPPED | PASS | PASS |
+---------------------+----------------------+-------------------+--------------------+----------------+
Windows Server 2019
Kernel: 10.0
Compiler: clang 9.0 and gcc 8.1.0 (MinGW)
Ubuntu 18.04
Kernel: 4.18.0-240.10.1.el8_3.x86_64
Compiler: gcc 7.5.0-3ubuntu1~18.04
Fedora 31
Kernel: 4.18.0-240.10.1.el8_3.x86_64
Compiler: gcc 9.3.1
Fedora 32
Kernel: 4.18.0-240.10.1.el8_3.x86_64
Compiler: gcc 10.2.1
RHEL8
Kernel: 4.18.0-240.10.1.el8_3.x86_64
Compiler: gcc 8.3.1 20191121 (Red Hat 8.3.1-5)
CentOS Stream 8
Kernel: 4.18.0-240.10.1.el8_3.x86_64
Compiler: gcc 8.4.1 20200928
RHEL 7
Kernel: 4.18.0-240.10.1.el8_3.x86_64
Compiler: gcc 4.8.5 20150623 (Red Hat 4.8.5-44)
Arch Linux
Kernel: 4.18.0-240.10.1.el8_3.x86_64
Compiler: gcc 10.2.0
Ubuntu 20.04
Kernel: 4.18.0-240.10.1.el8_3.x86_64
Compiler: gcc 9.3.0-17ubuntu1~20.04
openSUSE Leap 15
Kernel: 4.18.0-240.10.1.el8_3.x86_64
Compiler: gcc 7.5.0
FreeBSD 11.2
Kernel: 11.2
Compiler: gcc 8.3
Ubuntu 18.04 ARM
Kernel: 5.4.0-53-generic
Compiler: gcc 9.3
To view detailed results, visit:
https://lab.dpdk.org/results/dashboard/patchsets/16572/
UNH-IOL DPDK Community Lab
To manage your email subscriptions, visit:
https://lab.dpdk.org/results/dashboard/preferences/subscriptions/
More information about the test-report
mailing list