[dpdk-test-report] |SUCCESS| pw92005 [PATCH] net/mlx5: probe LAG representor with PF1 PCI address
dpdklab at iol.unh.edu
dpdklab at iol.unh.edu
Thu Apr 22 22:18:45 CEST 2021
Test-Label: iol-testing
Test-Status: SUCCESS
http://dpdk.org/patch/92005
_Testing PASS_
Submitter: Xueming Li <xuemingl at nvidia.com>
Date: Thursday, April 22 2021 07:24:45
DPDK git baseline: Repo:dpdk
Branch: master
CommitID:4a8ab48ec47b3616272e50620b8e1a9599358ea6
92005 --> testing pass
Test environment and result as below:
+---------------------+----------------------+-------------------+--------------------+
| Environment | dpdk_mingw64_compile | dpdk_compile_spdk | dpdk_meson_compile |
+=====================+======================+===================+====================+
| Windows Server 2019 | PASS | SKIPPED | PASS |
+---------------------+----------------------+-------------------+--------------------+
| Ubuntu 18.04 | SKIPPED | PASS | SKIPPED |
+---------------------+----------------------+-------------------+--------------------+
| Fedora 31 | SKIPPED | SKIPPED | PASS |
+---------------------+----------------------+-------------------+--------------------+
| Fedora 32 | SKIPPED | SKIPPED | PASS |
+---------------------+----------------------+-------------------+--------------------+
| Ubuntu 20.04 | SKIPPED | SKIPPED | PASS |
+---------------------+----------------------+-------------------+--------------------+
| Ubuntu 18.04 ARM | SKIPPED | SKIPPED | PASS |
+---------------------+----------------------+-------------------+--------------------+
| RHEL8 | SKIPPED | SKIPPED | PASS |
+---------------------+----------------------+-------------------+--------------------+
| openSUSE Leap 15 | SKIPPED | SKIPPED | PASS |
+---------------------+----------------------+-------------------+--------------------+
| RHEL 7 | SKIPPED | SKIPPED | PASS |
+---------------------+----------------------+-------------------+--------------------+
| Arch Linux | SKIPPED | SKIPPED | PASS |
+---------------------+----------------------+-------------------+--------------------+
Windows Server 2019
Kernel: 10.0
Compiler: clang 9.0 and gcc 8.1.0 (MinGW)
Ubuntu 18.04
Kernel: 4.18.0-240.10.1.el8_3.x86_64
Compiler: gcc 7.5.0-3ubuntu1~18.04
Fedora 31
Kernel: 4.18.0-240.10.1.el8_3.x86_64
Compiler: gcc 9.3.1
Fedora 32
Kernel: 4.18.0-240.10.1.el8_3.x86_64
Compiler: gcc 10.2.1
Ubuntu 20.04
Kernel: 4.18.0-240.10.1.el8_3.x86_64
Compiler: gcc 9.3.0-17ubuntu1~20.04
Ubuntu 18.04 ARM
Kernel: 5.4.0-53-generic
Compiler: gcc 9.3
RHEL8
Kernel: 4.18.0-240.10.1.el8_3.x86_64
Compiler: gcc 8.3.1 20191121 (Red Hat 8.3.1-5)
openSUSE Leap 15
Kernel: 4.18.0-240.10.1.el8_3.x86_64
Compiler: gcc 7.5.0
RHEL 7
Kernel: 4.18.0-240.10.1.el8_3.x86_64
Compiler: gcc 4.8.5 20150623 (Red Hat 4.8.5-44)
Arch Linux
Kernel: 4.18.0-240.10.1.el8_3.x86_64
Compiler: gcc 10.2.0
To view detailed results, visit:
https://lab.dpdk.org/results/dashboard/patchsets/16725/
UNH-IOL DPDK Community Lab
To manage your email subscriptions, visit:
https://lab.dpdk.org/results/dashboard/preferences/subscriptions/
More information about the test-report
mailing list