[dpdk-test-report] |SUCCESS| pw92318 [PATCH] examples/ethtool: fix pause configuration
dpdklab at iol.unh.edu
dpdklab at iol.unh.edu
Wed Apr 28 23:45:31 CEST 2021
Test-Label: iol-abi-testing
Test-Status: SUCCESS
http://dpdk.org/patch/92318
_Testing PASS_
Submitter: Min Hu (Connor) <humin29 at huawei.com>
Date: Wednesday, April 28 2021 08:42:59
DPDK git baseline: Repo:dpdk
Branch: master
CommitID:1b593b9c832e9b284cc59665fe662242a3fc1daf
92318 --> testing pass
Test environment and result as below:
+------------------+----------+
| Environment | abi_test |
+==================+==========+
| Ubuntu 18.04 ARM | PASS |
+------------------+----------+
| Ubuntu 18.04 | PASS |
+------------------+----------+
| Ubuntu 20.04 | PASS |
+------------------+----------+
| RHEL8 | PASS |
+------------------+----------+
| RHEL 7 | PASS |
+------------------+----------+
| Fedora 31 | PASS |
+------------------+----------+
| Fedora 32 | PASS |
+------------------+----------+
| Arch Linux | PASS |
+------------------+----------+
| CentOS Stream 8 | PASS |
+------------------+----------+
| CentOS 8 | PASS |
+------------------+----------+
==== 20 line log output for Fedora 32 (abi_test): ====
collect2: fatal error: ld terminated with signal 9 [Killed]
compilation terminated.
[2765/2903] Linking target app/dpdk-test-cmdline
[2766/2903] Linking target app/dpdk-proc-info
[2767/2903] Linking target app/dpdk-test-compress-perf
[2768/2903] Linking target app/dpdk-test-bbdev
[2769/2903] Linking target examples/dpdk-ip_reassembly
[2770/2903] Linking target examples/dpdk-ip_pipeline
[2771/2903] Linking target examples/dpdk-eventdev_pipeline
[2772/2903] Linking target examples/dpdk-helloworld
[2773/2903] Linking target examples/dpdk-distributor
[2774/2903] Linking target examples/dpdk-ioat
[2775/2903] Linking target examples/dpdk-fips_validation
[2776/2903] Linking target examples/dpdk-ip_fragmentation
[2777/2903] Linking target examples/dpdk-flow_filtering
[2778/2903] Linking target examples/dpdk-flow_classify
[2779/2903] Linking target examples/dpdk-l2fwd
[2780/2903] Linking target examples/dpdk-ethtool
[2781/2903] Linking target examples/dpdk-cmdline
ninja: build stopped: subcommand failed.
==== End log output ====
Ubuntu 18.04 ARM
Kernel: 5.4.0-53-generic
Compiler: gcc 9.3
Ubuntu 18.04
Kernel: 4.18.0-240.10.1.el8_3.x86_64
Compiler: gcc 7.5.0-3ubuntu1~18.04
Ubuntu 20.04
Kernel: 4.18.0-240.10.1.el8_3.x86_64
Compiler: gcc 9.3.0-17ubuntu1~20.04
RHEL8
Kernel: 4.18.0-240.10.1.el8_3.x86_64
Compiler: gcc 8.3.1 20191121 (Red Hat 8.3.1-5)
RHEL 7
Kernel: 4.18.0-240.10.1.el8_3.x86_64
Compiler: gcc 4.8.5 20150623 (Red Hat 4.8.5-44)
Fedora 31
Kernel: 4.18.0-240.10.1.el8_3.x86_64
Compiler: gcc 9.3.1
Fedora 32
Kernel: 4.18.0-240.10.1.el8_3.x86_64
Compiler: gcc 10.2.1
Arch Linux
Kernel: 4.18.0-240.10.1.el8_3.x86_64
Compiler: gcc 10.2.0
CentOS Stream 8
Kernel: 4.18.0-240.10.1.el8_3.x86_64
Compiler: gcc 8.4.1 20200928
CentOS 8
Kernel: 4.18.0-240.10.1.el8_3.x86_64
Compiler: gcc 8.3.1 20191121 (Red Hat 8.3.1-5)
To view detailed results, visit:
https://lab.dpdk.org/results/dashboard/patchsets/16835/
UNH-IOL DPDK Community Lab
To manage your email subscriptions, visit:
https://lab.dpdk.org/results/dashboard/preferences/subscriptions/
More information about the test-report
mailing list