[dpdk-test-report] |SUCCESS| pw87902-87907 [PATCH] [v2, 6/6] net/pcap: build on Windows

dpdklab at iol.unh.edu dpdklab at iol.unh.edu
Sun Feb 14 04:55:29 CET 2021


Test-Label: iol-testing
Test-Status: SUCCESS
http://dpdk.org/patch/87907

_Testing PASS_

Submitter: Dmitry Kozlyuk <dmitry.kozliuk at gmail.com>
Date: Sunday, February 14 2021 02:16:16 
DPDK git baseline: Repo:dpdk
  Branch: master
  CommitID:9c345301722160eeb345c3363fa0de1520646465

87902-87907 --> testing pass

Test environment and result as below:

+---------------------+----------------------+--------------------+----------------+
|     Environment     | dpdk_mingw64_compile | dpdk_meson_compile | dpdk_unit_test |
+=====================+======================+====================+================+
| Windows Server 2019 | PASS                 | PASS               | SKIPPED        |
+---------------------+----------------------+--------------------+----------------+
| FreeBSD 11.2        | SKIPPED              | PASS               | SKIPPED        |
+---------------------+----------------------+--------------------+----------------+
| Fedora 31           | SKIPPED              | PASS               | SKIPPED        |
+---------------------+----------------------+--------------------+----------------+
| CentOS 8            | SKIPPED              | PASS               | SKIPPED        |
+---------------------+----------------------+--------------------+----------------+
| openSUSE Leap 15    | SKIPPED              | PASS               | SKIPPED        |
+---------------------+----------------------+--------------------+----------------+
| Arch Linux          | SKIPPED              | PASS               | SKIPPED        |
+---------------------+----------------------+--------------------+----------------+
| Ubuntu 18.04        | SKIPPED              | PASS               | PASS           |
+---------------------+----------------------+--------------------+----------------+
| Ubuntu 18.04 ARM    | SKIPPED              | PASS               | PASS           |
+---------------------+----------------------+--------------------+----------------+


Windows Server 2019
	Kernel: 10.0
	Compiler: clang 9.0 and gcc 8.1.0 (MinGW)

FreeBSD 11.2
	Kernel: 11.2
	Compiler: gcc 8.3

Fedora 31
	Kernel: 5.3.16
	Compiler: gcc 9.2.1

CentOS 8
	Kernel: 4.18.0.el8_0
	Compiler: gcc 8.3.1

openSUSE Leap 15
	Kernel: 4.12.14
	Compiler: gcc 7.4.1

Arch Linux
	Kernel: latest
	Compiler: gcc latest

Ubuntu 18.04
	Kernel: 4.15.0-generic
	Compiler: gcc 7.5

Ubuntu 18.04 ARM
	Kernel: 5.4.0-53-generic
	Compiler: gcc 9.3

To view detailed results, visit:
https://lab.dpdk.org/results/dashboard/patchsets/15621/

UNH-IOL DPDK Community Lab

To manage your email subscriptions, visit: 
https://lab.dpdk.org/results/dashboard/preferences/subscriptions/


More information about the test-report mailing list