[dpdk-test-report] |SUCCESS| pw94083 [PATCH] [v2] net/i40e: fix set rss hash function invalid
dpdklab at iol.unh.edu
dpdklab at iol.unh.edu
Fri Jun 11 10:42:50 CEST 2021
Test-Label: iol-testing
Test-Status: SUCCESS
http://dpdk.org/patch/94083
_Testing PASS_
Submitter: Steve Yang <stevex.yang at intel.com>
Date: Friday, June 11 2021 06:54:57
DPDK git baseline: Repo:dpdk
Branch: master
CommitID:469d5c02159ddf0746ddbb9822c034556422515f
94083 --> testing pass
Test environment and result as below:
+---------------------+----------------------+-------------------+--------------------+----------------+
| Environment | dpdk_mingw64_compile | dpdk_compile_spdk | dpdk_meson_compile | dpdk_unit_test |
+=====================+======================+===================+====================+================+
| Windows Server 2019 | PASS | SKIPPED | PASS | SKIPPED |
+---------------------+----------------------+-------------------+--------------------+----------------+
| Ubuntu 18.04 | SKIPPED | PASS | PASS | PASS |
+---------------------+----------------------+-------------------+--------------------+----------------+
| Fedora 31 | SKIPPED | SKIPPED | PASS | PASS |
+---------------------+----------------------+-------------------+--------------------+----------------+
| FreeBSD 11.2 | SKIPPED | SKIPPED | PASS | SKIPPED |
+---------------------+----------------------+-------------------+--------------------+----------------+
| Ubuntu 18.04 ARM | SKIPPED | SKIPPED | PASS | PASS |
+---------------------+----------------------+-------------------+--------------------+----------------+
| CentOS 8 | SKIPPED | SKIPPED | PASS | PASS |
+---------------------+----------------------+-------------------+--------------------+----------------+
| CentOS Stream 8 | SKIPPED | SKIPPED | PASS | PASS |
+---------------------+----------------------+-------------------+--------------------+----------------+
| Fedora 32 | SKIPPED | SKIPPED | PASS | PASS |
+---------------------+----------------------+-------------------+--------------------+----------------+
| Ubuntu 20.04 | SKIPPED | SKIPPED | PASS | PASS |
+---------------------+----------------------+-------------------+--------------------+----------------+
| RHEL8 | SKIPPED | SKIPPED | PASS | PASS |
+---------------------+----------------------+-------------------+--------------------+----------------+
| RHEL 7 | SKIPPED | SKIPPED | PASS | PASS |
+---------------------+----------------------+-------------------+--------------------+----------------+
| Arch Linux | SKIPPED | SKIPPED | PASS | PASS |
+---------------------+----------------------+-------------------+--------------------+----------------+
| openSUSE Leap 15 | SKIPPED | SKIPPED | PASS | PASS |
+---------------------+----------------------+-------------------+--------------------+----------------+
| Fedora 33 | SKIPPED | SKIPPED | PASS | PASS |
+---------------------+----------------------+-------------------+--------------------+----------------+
| Fedora 34 | SKIPPED | SKIPPED | PASS | PASS |
+---------------------+----------------------+-------------------+--------------------+----------------+
| Ubuntu20.04 | SKIPPED | SKIPPED | PASS | SKIPPED |
+---------------------+----------------------+-------------------+--------------------+----------------+
| Fedora 34 clang | SKIPPED | SKIPPED | PASS | PASS |
+---------------------+----------------------+-------------------+--------------------+----------------+
Windows Server 2019
Kernel: 10.0
Compiler: clang 9.0 and gcc 8.1.0 (MinGW)
Ubuntu 18.04
Kernel: 4.18.0-240.10.1.el8_3.x86_64
Compiler: gcc 7.5.0-3ubuntu1~18.04
Fedora 31
Kernel: 4.18.0-240.10.1.el8_3.x86_64
Compiler: gcc 9.3.1
FreeBSD 11.2
Kernel: 11.2
Compiler: gcc 8.3
Ubuntu 18.04 ARM
Kernel: 5.4.0-53-generic
Compiler: gcc 9.3
CentOS 8
Kernel: 4.18.0-240.10.1.el8_3.x86_64
Compiler: gcc 8.3.1 20191121 (Red Hat 8.3.1-5)
CentOS Stream 8
Kernel: 4.18.0-240.10.1.el8_3.x86_64
Compiler: gcc 8.4.1 20200928
Fedora 32
Kernel: 4.18.0-240.10.1.el8_3.x86_64
Compiler: gcc 10.2.1
Ubuntu 20.04
Kernel: 4.18.0-240.10.1.el8_3.x86_64
Compiler: gcc 9.3.0-17ubuntu1~20.04
RHEL8
Kernel: 4.18.0-240.10.1.el8_3.x86_64
Compiler: gcc 8.3.1 20191121 (Red Hat 8.3.1-5)
RHEL 7
Kernel: 4.18.0-240.10.1.el8_3.x86_64
Compiler: gcc 4.8.5 20150623 (Red Hat 4.8.5-44)
Arch Linux
Kernel: 5.4.0-73-generic
Compiler: gcc 11.1.0
openSUSE Leap 15
Kernel: 4.18.0-240.10.1.el8_3.x86_64
Compiler: gcc 7.5.0
Fedora 33
Kernel: 5.4.0-72-generic
Compiler: gcc 10.3.1 20210422 (Red Hat 10.3.1-1)
Fedora 34
Kernel: 5.4.0-72-generic
Compiler: gcc 11.1.1 20210428 (Red Hat 11.1.1-1)
Ubuntu20.04
Kernel: 5.4.0-72-generic
Compiler: aarch64-linux-gnu-gcc (Ubuntu 9.3.0-17ubuntu1~20.04) 9.3.0
Fedora 34 clang
Kernel: 5.4.0-72-generic
Compiler: clang 12.0.0 (Fedora 12.0.0-0.3.rc1.fc34)
To view detailed results, visit:
https://lab.dpdk.org/results/dashboard/patchsets/17354/
UNH-IOL DPDK Community Lab
To manage your email subscriptions, visit:
https://lab.dpdk.org/results/dashboard/preferences/subscriptions/
More information about the test-report
mailing list