[dpdk-test-report] |SUCCESS| pw88296 [PATCH] [v3] net/i40e: fix inputset field mask

dpdklab at iol.unh.edu dpdklab at iol.unh.edu
Mon Mar 1 23:56:25 CET 2021


Test-Label: iol-testing
Test-Status: SUCCESS
http://dpdk.org/patch/88296

_Testing PASS_

Submitter: Alvin Zhang <alvinx.zhang at intel.com>
Date: Monday, March 01 2021 07:06:07 
DPDK git baseline: Repo:dpdk
  Branch: master
  CommitID:51fe32138c860992f228dbf19416ffd3b8e8baf4

88296 --> testing pass

Test environment and result as below:

+---------------------+----------------------+--------------------+----------------+-------------------+
|     Environment     | dpdk_mingw64_compile | dpdk_meson_compile | dpdk_unit_test | dpdk_compile_spdk |
+=====================+======================+====================+================+===================+
| Windows Server 2019 | PASS                 | PASS               | SKIPPED        | SKIPPED           |
+---------------------+----------------------+--------------------+----------------+-------------------+
| Ubuntu 18.04        | SKIPPED              | PASS               | PASS           | PASS              |
+---------------------+----------------------+--------------------+----------------+-------------------+
| FreeBSD 11.2        | SKIPPED              | PASS               | SKIPPED        | SKIPPED           |
+---------------------+----------------------+--------------------+----------------+-------------------+
| Fedora 32           | SKIPPED              | PASS               | SKIPPED        | SKIPPED           |
+---------------------+----------------------+--------------------+----------------+-------------------+
| CentOS 8            | SKIPPED              | PASS               | SKIPPED        | SKIPPED           |
+---------------------+----------------------+--------------------+----------------+-------------------+
| Arch Linux          | SKIPPED              | PASS               | SKIPPED        | SKIPPED           |
+---------------------+----------------------+--------------------+----------------+-------------------+
| openSUSE Leap 15    | SKIPPED              | PASS               | SKIPPED        | SKIPPED           |
+---------------------+----------------------+--------------------+----------------+-------------------+
| Fedora 31           | SKIPPED              | PASS               | SKIPPED        | PASS              |
+---------------------+----------------------+--------------------+----------------+-------------------+
| Ubuntu 18.04 ARM    | SKIPPED              | PASS               | PASS           | SKIPPED           |
+---------------------+----------------------+--------------------+----------------+-------------------+


Windows Server 2019
	Kernel: 10.0
	Compiler: clang 9.0 and gcc 8.1.0 (MinGW)

Ubuntu 18.04
	Kernel: 4.15.0-generic
	Compiler: gcc 7.5

FreeBSD 11.2
	Kernel: 11.2
	Compiler: gcc 8.3

Fedora 32
	Kernel: 4.18.0-240.10.1.el8_3.x86_64
	Compiler: gcc 10.2.1

CentOS 8
	Kernel: 4.18.0.el8_0
	Compiler: gcc 8.3.1

Arch Linux
	Kernel: latest
	Compiler: gcc latest

openSUSE Leap 15
	Kernel: 4.12.14
	Compiler: gcc 7.4.1

Fedora 31
	Kernel: 5.3.16
	Compiler: gcc 9.2.1

Ubuntu 18.04 ARM
	Kernel: 5.4.0-53-generic
	Compiler: gcc 9.3

To view detailed results, visit:
https://lab.dpdk.org/results/dashboard/patchsets/15748/

UNH-IOL DPDK Community Lab

To manage your email subscriptions, visit: 
https://lab.dpdk.org/results/dashboard/preferences/subscriptions/


More information about the test-report mailing list