[dpdk-test-report] |SUCCESS| pw89925-89932 [PATCH] [v21.11, v8, 8/8] eventdev: simplify Rx adapter event vector config

dpdklab at iol.unh.edu dpdklab at iol.unh.edu
Fri Mar 26 23:24:47 CET 2021


Test-Label: iol-testing
Test-Status: SUCCESS
http://dpdk.org/patch/89932

_Testing PASS_

Submitter: Pavan Nikhilesh Bhagavatula <pbhagavatula at marvell.com>
Date: Friday, March 26 2021 14:08:49 
DPDK git baseline: Repo:dpdk
  Branch: master
  CommitID:defd7f5a5300b4aeee35cf17a6868fd99baad0b5

89925-89932 --> testing pass

Test environment and result as below:

+---------------------+----------------------+--------------------+
|     Environment     | dpdk_mingw64_compile | dpdk_meson_compile |
+=====================+======================+====================+
| Windows Server 2019 | PASS                 | PASS               |
+---------------------+----------------------+--------------------+
| CentOS Stream 8     | SKIPPED              | PASS               |
+---------------------+----------------------+--------------------+
| Fedora 32           | SKIPPED              | PASS               |
+---------------------+----------------------+--------------------+
| RHEL 7              | SKIPPED              | PASS               |
+---------------------+----------------------+--------------------+
| Ubuntu 20.04        | SKIPPED              | PASS               |
+---------------------+----------------------+--------------------+
| RHEL8               | SKIPPED              | PASS               |
+---------------------+----------------------+--------------------+


Windows Server 2019
	Kernel: 10.0
	Compiler: clang 9.0 and gcc 8.1.0 (MinGW)

CentOS Stream 8
	Kernel: 4.18.0-240.10.1.el8_3.x86_64
	Compiler: gcc 8.4.1 20200928

Fedora 32
	Kernel: 4.18.0-240.10.1.el8_3.x86_64
	Compiler: gcc 10.2.1

RHEL 7
	Kernel: 4.18.0-240.10.1.el8_3.x86_64
	Compiler: gcc 4.8.5 20150623 (Red Hat 4.8.5-44)

Ubuntu 20.04
	Kernel: 4.18.0-240.10.1.el8_3.x86_64
	Compiler: gcc 9.3.0-17ubuntu1~20.04

RHEL8
	Kernel: 4.18.0-240.10.1.el8_3.x86_64
	Compiler: gcc 8.3.1 20191121 (Red Hat 8.3.1-5)

To view detailed results, visit:
https://lab.dpdk.org/results/dashboard/patchsets/16147/

UNH-IOL DPDK Community Lab

To manage your email subscriptions, visit: 
https://lab.dpdk.org/results/dashboard/preferences/subscriptions/


More information about the test-report mailing list