[dpdk-test-report] |SUCCESS| pw92639-92672 [PATCH] [v4, 34/34] event/cnxk: add devargs to control timer adapters
dpdklab at iol.unh.edu
dpdklab at iol.unh.edu
Mon May 3 19:22:57 CEST 2021
Test-Label: iol-testing
Test-Status: SUCCESS
http://dpdk.org/patch/92672
_Testing PASS_
Submitter: Pavan Nikhilesh Bhagavatula <pbhagavatula at marvell.com>
Date: Monday, May 03 2021 15:22:37
DPDK git baseline: Repo:dpdk
Branch: master
CommitID:1b593b9c832e9b284cc59665fe662242a3fc1daf
92639-92672 --> testing pass
Test environment and result as below:
+---------------------+----------------------+--------------------+----------------+
| Environment | dpdk_mingw64_compile | dpdk_meson_compile | dpdk_unit_test |
+=====================+======================+====================+================+
| Windows Server 2019 | PASS | PASS | SKIPPED |
+---------------------+----------------------+--------------------+----------------+
| FreeBSD 11.2 | SKIPPED | PASS | SKIPPED |
+---------------------+----------------------+--------------------+----------------+
| Ubuntu 18.04 ARM | SKIPPED | PASS | PASS |
+---------------------+----------------------+--------------------+----------------+
| Ubuntu 18.04 | SKIPPED | SKIPPED | PASS |
+---------------------+----------------------+--------------------+----------------+
Windows Server 2019
Kernel: 10.0
Compiler: clang 9.0 and gcc 8.1.0 (MinGW)
FreeBSD 11.2
Kernel: 11.2
Compiler: gcc 8.3
Ubuntu 18.04 ARM
Kernel: 5.4.0-53-generic
Compiler: gcc 9.3
Ubuntu 18.04
Kernel: 4.18.0-240.10.1.el8_3.x86_64
Compiler: gcc 7.5.0-3ubuntu1~18.04
To view detailed results, visit:
https://lab.dpdk.org/results/dashboard/patchsets/16916/
UNH-IOL DPDK Community Lab
To manage your email subscriptions, visit:
https://lab.dpdk.org/results/dashboard/preferences/subscriptions/
More information about the test-report
mailing list