[dpdk-test-report] |SUCCESS| pw93062-93075 [PATCH] [v4, 14/14] crypto/mlx5: set feature flags and capabilities
dpdklab at iol.unh.edu
dpdklab at iol.unh.edu
Sun May 9 18:57:21 CEST 2021
Test-Label: iol-abi-testing
Test-Status: SUCCESS
http://dpdk.org/patch/93075
_Testing PASS_
Submitter: Matan Azrad <matan at nvidia.com>
Date: Sunday, May 09 2021 16:05:07
DPDK git baseline: Repo:dpdk
Branch: master
CommitID:627c5b41bb14a1afbd1489b0fc4b8224532a823d
93062-93075 --> testing pass
Test environment and result as below:
+------------------+----------+
| Environment | abi_test |
+==================+==========+
| Ubuntu 18.04 ARM | PASS |
+------------------+----------+
| Ubuntu 18.04 | PASS |
+------------------+----------+
| RHEL 7 | PASS |
+------------------+----------+
| Ubuntu 20.04 | PASS |
+------------------+----------+
| Arch Linux | PASS |
+------------------+----------+
| CentOS 8 | PASS |
+------------------+----------+
| RHEL8 | PASS |
+------------------+----------+
| CentOS Stream 8 | PASS |
+------------------+----------+
| Fedora 32 | PASS |
+------------------+----------+
| openSUSE Leap 15 | PASS |
+------------------+----------+
| Fedora 31 | PASS |
+------------------+----------+
Ubuntu 18.04 ARM
Kernel: 5.4.0-53-generic
Compiler: gcc 9.3
Ubuntu 18.04
Kernel: 4.18.0-240.10.1.el8_3.x86_64
Compiler: gcc 7.5.0-3ubuntu1~18.04
RHEL 7
Kernel: 4.18.0-240.10.1.el8_3.x86_64
Compiler: gcc 4.8.5 20150623 (Red Hat 4.8.5-44)
Ubuntu 20.04
Kernel: 4.18.0-240.10.1.el8_3.x86_64
Compiler: gcc 9.3.0-17ubuntu1~20.04
Arch Linux
Kernel: 4.18.0-240.10.1.el8_3.x86_64
Compiler: gcc 10.2.0
CentOS 8
Kernel: 4.18.0-240.10.1.el8_3.x86_64
Compiler: gcc 8.3.1 20191121 (Red Hat 8.3.1-5)
RHEL8
Kernel: 4.18.0-240.10.1.el8_3.x86_64
Compiler: gcc 8.3.1 20191121 (Red Hat 8.3.1-5)
CentOS Stream 8
Kernel: 4.18.0-240.10.1.el8_3.x86_64
Compiler: gcc 8.4.1 20200928
Fedora 32
Kernel: 4.18.0-240.10.1.el8_3.x86_64
Compiler: gcc 10.2.1
openSUSE Leap 15
Kernel: 4.18.0-240.10.1.el8_3.x86_64
Compiler: gcc 7.5.0
Fedora 31
Kernel: 4.18.0-240.10.1.el8_3.x86_64
Compiler: gcc 9.3.1
To view detailed results, visit:
https://lab.dpdk.org/results/dashboard/patchsets/17001/
UNH-IOL DPDK Community Lab
To manage your email subscriptions, visit:
https://lab.dpdk.org/results/dashboard/preferences/subscriptions/
More information about the test-report
mailing list