[dpdk-test-report] |SUCCESS| pw93148 [PATCH] app/testpmd: fix tunnel offload flows

dpdklab at iol.unh.edu dpdklab at iol.unh.edu
Tue May 11 10:51:29 CEST 2021


Test-Label: iol-testing
Test-Status: SUCCESS
http://dpdk.org/patch/93148

_Testing PASS_

Submitter: Gregory Etelson <getelson at nvidia.com>
Date: Tuesday, May 11 2021 08:03:31 
DPDK git baseline: Repo:dpdk
  Branch: master
  CommitID:be81f77d807720f01e72e38502c2ca613b36b726

93148 --> testing pass

Test environment and result as below:

+---------------------+----------------------+--------------------+-------------------+----------------+
|     Environment     | dpdk_mingw64_compile | dpdk_meson_compile | dpdk_compile_spdk | dpdk_unit_test |
+=====================+======================+====================+===================+================+
| Windows Server 2019 | PASS                 | PASS               | SKIPPED           | SKIPPED        |
+---------------------+----------------------+--------------------+-------------------+----------------+
| Fedora 31           | SKIPPED              | PASS               | SKIPPED           | SKIPPED        |
+---------------------+----------------------+--------------------+-------------------+----------------+
| Ubuntu 18.04 ARM    | SKIPPED              | PASS               | SKIPPED           | SKIPPED        |
+---------------------+----------------------+--------------------+-------------------+----------------+
| FreeBSD 11.2        | SKIPPED              | PASS               | SKIPPED           | SKIPPED        |
+---------------------+----------------------+--------------------+-------------------+----------------+
| CentOS 8            | SKIPPED              | PASS               | SKIPPED           | SKIPPED        |
+---------------------+----------------------+--------------------+-------------------+----------------+
| Ubuntu 18.04        | SKIPPED              | PASS               | PASS              | PASS           |
+---------------------+----------------------+--------------------+-------------------+----------------+
| CentOS Stream 8     | SKIPPED              | PASS               | SKIPPED           | SKIPPED        |
+---------------------+----------------------+--------------------+-------------------+----------------+
| Fedora 32           | SKIPPED              | PASS               | SKIPPED           | SKIPPED        |
+---------------------+----------------------+--------------------+-------------------+----------------+
| Ubuntu 20.04        | SKIPPED              | PASS               | SKIPPED           | SKIPPED        |
+---------------------+----------------------+--------------------+-------------------+----------------+
| RHEL8               | SKIPPED              | PASS               | SKIPPED           | SKIPPED        |
+---------------------+----------------------+--------------------+-------------------+----------------+
| Arch Linux          | SKIPPED              | PASS               | SKIPPED           | SKIPPED        |
+---------------------+----------------------+--------------------+-------------------+----------------+
| openSUSE Leap 15    | SKIPPED              | PASS               | SKIPPED           | SKIPPED        |
+---------------------+----------------------+--------------------+-------------------+----------------+
| RHEL 7              | SKIPPED              | PASS               | SKIPPED           | SKIPPED        |
+---------------------+----------------------+--------------------+-------------------+----------------+


Windows Server 2019
	Kernel: 10.0
	Compiler: clang 9.0 and gcc 8.1.0 (MinGW)

Fedora 31
	Kernel: 4.18.0-240.10.1.el8_3.x86_64
	Compiler: gcc 9.3.1

Ubuntu 18.04 ARM
	Kernel: 5.4.0-53-generic
	Compiler: gcc 9.3

FreeBSD 11.2
	Kernel: 11.2
	Compiler: gcc 8.3

CentOS 8
	Kernel: 4.18.0-240.10.1.el8_3.x86_64
	Compiler: gcc 8.3.1 20191121 (Red Hat 8.3.1-5)

Ubuntu 18.04
	Kernel: 4.18.0-240.10.1.el8_3.x86_64
	Compiler: gcc 7.5.0-3ubuntu1~18.04

CentOS Stream 8
	Kernel: 4.18.0-240.10.1.el8_3.x86_64
	Compiler: gcc 8.4.1 20200928

Fedora 32
	Kernel: 4.18.0-240.10.1.el8_3.x86_64
	Compiler: gcc 10.2.1

Ubuntu 20.04
	Kernel: 4.18.0-240.10.1.el8_3.x86_64
	Compiler: gcc 9.3.0-17ubuntu1~20.04

RHEL8
	Kernel: 4.18.0-240.10.1.el8_3.x86_64
	Compiler: gcc 8.3.1 20191121 (Red Hat 8.3.1-5)

Arch Linux
	Kernel: 4.18.0-240.10.1.el8_3.x86_64
	Compiler: gcc 10.2.0

openSUSE Leap 15
	Kernel: 4.18.0-240.10.1.el8_3.x86_64
	Compiler: gcc 7.5.0

RHEL 7
	Kernel: 4.18.0-240.10.1.el8_3.x86_64
	Compiler: gcc 4.8.5 20150623 (Red Hat 4.8.5-44)

To view detailed results, visit:
https://lab.dpdk.org/results/dashboard/patchsets/17032/

UNH-IOL DPDK Community Lab

To manage your email subscriptions, visit: 
https://lab.dpdk.org/results/dashboard/preferences/subscriptions/


More information about the test-report mailing list