[dpdk-test-report] |SUCCESS| pw97568 [PATCH] examples/l3fwd: add changes to use event vector

dpdklab at iol.unh.edu dpdklab at iol.unh.edu
Wed Sep 1 04:16:55 CEST 2021


Test-Label: iol-testing
Test-Status: SUCCESS
http://dpdk.org/patch/97568

_Testing PASS_

Submitter: Shijith Thotton <sthotton at marvell.com>
Date: Monday, August 30 2021 19:15:17 
DPDK git baseline: Repo:dpdk
  Branch: master
  CommitID:bfd3c352eb9729f97da6e1b5e958e121542d8a8d

97568 --> testing pass

Test environment and result as below:

+------------------+----------------+----------------+
|   Environment    | spdk_unit_test | dpdk_unit_test |
+==================+================+================+
| Fedora30         | PASS           | SKIPPED        |
+------------------+----------------+----------------+
| Ubuntu 18.04     | SKIPPED        | PASS           |
+------------------+----------------+----------------+
| Arch Linux       | SKIPPED        | PASS           |
+------------------+----------------+----------------+
| CentOS 8         | SKIPPED        | PASS           |
+------------------+----------------+----------------+
| CentOS Stream 8  | SKIPPED        | PASS           |
+------------------+----------------+----------------+
| Fedora 31        | SKIPPED        | PASS           |
+------------------+----------------+----------------+
| Fedora 32        | SKIPPED        | PASS           |
+------------------+----------------+----------------+
| openSUSE Leap 15 | SKIPPED        | PASS           |
+------------------+----------------+----------------+
| RHEL 7           | SKIPPED        | PASS           |
+------------------+----------------+----------------+
| RHEL8            | SKIPPED        | PASS           |
+------------------+----------------+----------------+
| Ubuntu 20.04     | SKIPPED        | PASS           |
+------------------+----------------+----------------+
| Fedora 34        | SKIPPED        | PASS           |
+------------------+----------------+----------------+
| Fedora 33        | SKIPPED        | PASS           |
+------------------+----------------+----------------+
| Fedora 34 clang  | SKIPPED        | PASS           |
+------------------+----------------+----------------+


Fedora30
	Kernel: 5.0.9-301.fc30.x86_64
	Compiler: gcc 9.2.1 20190827

Ubuntu 18.04
	Kernel: 4.18.0-240.10.1.el8_3.x86_64
	Compiler: gcc 7.5.0-3ubuntu1~18.04

Arch Linux
	Kernel: 5.4.0-73-generic
	Compiler: gcc 11.1.0

CentOS 8
	Kernel: 4.18.0-240.10.1.el8_3.x86_64
	Compiler: gcc 8.3.1 20191121 (Red Hat 8.3.1-5)

CentOS Stream 8
	Kernel: 4.18.0-240.10.1.el8_3.x86_64
	Compiler: gcc 8.4.1 20200928

Fedora 31
	Kernel: 4.18.0-240.10.1.el8_3.x86_64
	Compiler: gcc 9.3.1

Fedora 32
	Kernel: 4.18.0-240.10.1.el8_3.x86_64
	Compiler: gcc 10.2.1

openSUSE Leap 15
	Kernel: 4.18.0-240.10.1.el8_3.x86_64
	Compiler: gcc 7.5.0

RHEL 7
	Kernel: 4.18.0-240.10.1.el8_3.x86_64
	Compiler: gcc 4.8.5 20150623 (Red Hat 4.8.5-44)

RHEL8
	Kernel: 4.18.0-240.10.1.el8_3.x86_64
	Compiler: gcc 8.3.1 20191121 (Red Hat 8.3.1-5)

Ubuntu 20.04
	Kernel: 4.18.0-240.10.1.el8_3.x86_64
	Compiler: gcc 9.3.0-17ubuntu1~20.04

Fedora 34
	Kernel: 5.4.0-72-generic
	Compiler: gcc 11.1.1 20210428 (Red Hat 11.1.1-1)

Fedora 33
	Kernel: 5.4.0-72-generic
	Compiler: gcc 10.3.1 20210422 (Red Hat 10.3.1-1)

Fedora 34 clang
	Kernel: 5.4.0-72-generic
	Compiler: clang 12.0.0 (Fedora 12.0.0-0.3.rc1.fc34)

To view detailed results, visit:
https://lab.dpdk.org/results/dashboard/patchsets/18427/

UNH-IOL DPDK Community Lab

To manage your email subscriptions, visit: 
https://lab.dpdk.org/results/dashboard/preferences/subscriptions/


More information about the test-report mailing list