[dpdk-test-report] |SUCCESS| [GIT MASTER] 0f9364522244febd96d395496b5ba2bde209d230

dpdklab at iol.unh.edu dpdklab at iol.unh.edu
Wed Sep 8 19:38:20 CEST 2021


_Testing PASS_

Branch: dpdk-next-crypto

0f9364522244febd96d395496b5ba2bde209d230 --> testing pass

Test environment and result as below:

+------------------------------------+--------------------+----------------+
|            Environment             | dpdk_meson_compile | dpdk_unit_test |
+====================================+====================+================+
| Ubuntu 20.04 ARM                   | PASS               | SKIPPED        |
+------------------------------------+--------------------+----------------+
| Ubuntu 20.04 ARM cross-compilation | PASS               | SKIPPED        |
+------------------------------------+--------------------+----------------+
| Ubuntu 18.04                       | SKIPPED            | PASS           |
+------------------------------------+--------------------+----------------+
| Arch Linux                         | SKIPPED            | PASS           |
+------------------------------------+--------------------+----------------+
| CentOS 8                           | SKIPPED            | PASS           |
+------------------------------------+--------------------+----------------+
| CentOS Stream 8                    | SKIPPED            | PASS           |
+------------------------------------+--------------------+----------------+
| Fedora 32                          | SKIPPED            | PASS           |
+------------------------------------+--------------------+----------------+
| Fedora 31                          | SKIPPED            | PASS           |
+------------------------------------+--------------------+----------------+
| openSUSE Leap 15                   | SKIPPED            | PASS           |
+------------------------------------+--------------------+----------------+
| RHEL 7                             | SKIPPED            | PASS           |
+------------------------------------+--------------------+----------------+
| RHEL8                              | SKIPPED            | PASS           |
+------------------------------------+--------------------+----------------+
| Fedora 34                          | SKIPPED            | PASS           |
+------------------------------------+--------------------+----------------+
| Ubuntu 20.04                       | SKIPPED            | PASS           |
+------------------------------------+--------------------+----------------+
| Fedora 33                          | SKIPPED            | PASS           |
+------------------------------------+--------------------+----------------+


Ubuntu 20.04 ARM
	Kernel: 5.4.0-53-generic
	Compiler: gcc 9.3

Ubuntu 20.04 ARM cross-compilation
	Kernel: 5.4.0-72-generic
	Compiler: aarch64-linux-gnu-gcc (Ubuntu 9.3.0-17ubuntu1~20.04) 9.3.0

Ubuntu 18.04
	Kernel: 4.18.0-240.10.1.el8_3.x86_64
	Compiler: gcc 7.5.0-3ubuntu1~18.04

Arch Linux
	Kernel: 5.4.0-73-generic
	Compiler: gcc 11.1.0

CentOS 8
	Kernel: 4.18.0-240.10.1.el8_3.x86_64
	Compiler: gcc 8.3.1 20191121 (Red Hat 8.3.1-5)

CentOS Stream 8
	Kernel: 4.18.0-240.10.1.el8_3.x86_64
	Compiler: gcc 8.4.1 20200928

Fedora 32
	Kernel: 4.18.0-240.10.1.el8_3.x86_64
	Compiler: gcc 10.2.1

Fedora 31
	Kernel: 4.18.0-240.10.1.el8_3.x86_64
	Compiler: gcc 9.3.1

openSUSE Leap 15
	Kernel: 4.18.0-240.10.1.el8_3.x86_64
	Compiler: gcc 7.5.0

RHEL 7
	Kernel: 4.18.0-240.10.1.el8_3.x86_64
	Compiler: gcc 4.8.5 20150623 (Red Hat 4.8.5-44)

RHEL8
	Kernel: 4.18.0-240.10.1.el8_3.x86_64
	Compiler: gcc 8.3.1 20191121 (Red Hat 8.3.1-5)

Fedora 34
	Kernel: 5.4.0-72-generic
	Compiler: gcc 11.1.1 20210428 (Red Hat 11.1.1-1)

Ubuntu 20.04
	Kernel: 4.18.0-240.10.1.el8_3.x86_64
	Compiler: gcc 9.3.0-17ubuntu1~20.04

Fedora 33
	Kernel: 5.4.0-72-generic
	Compiler: gcc 10.3.1 20210422 (Red Hat 10.3.1-1)

To view detailed results, visit:
https://lab.dpdk.org/results/dashboard/tarballs/16653/

UNH-IOL DPDK Community Lab

To manage your email subscriptions, visit: 
https://lab.dpdk.org/results/dashboard/preferences/subscriptions/


More information about the test-report mailing list