|SUCCESS| pw120501-120500 [PATCH] [v2, 3/3] eal: deprecate pthread control thread create API
    dpdklab at iol.unh.edu 
    dpdklab at iol.unh.edu
       
    Tue Dec  6 23:54:19 CET 2022
    
    
  
Test-Label: iol-testing
Test-Status: SUCCESS
http://dpdk.org/patch/120500
_Testing PASS_
Submitter: Tyler Retzlaff <roretzla at linux.microsoft.com>
Date: Tuesday, December 06 2022 17:28:26 
DPDK git baseline: Repo:dpdk
  Branch: master
  CommitID:6c8aed5ab7f6dbed8e71199504fa227f5f60c6fd
120501-120500 --> testing pass
Test environment and result as below:
+-------------------------------+----------------+
|          Environment          | dpdk_unit_test |
+===============================+================+
| Ubuntu 20.04 ARM GCC Native   | PASS           |
+-------------------------------+----------------+
| Ubuntu 20.04 ARM Clang Native | PASS           |
+-------------------------------+----------------+
| Windows Server 2019           | PASS           |
+-------------------------------+----------------+
| Debian Buster                 | PASS           |
+-------------------------------+----------------+
Ubuntu 20.04 ARM GCC Native
	Kernel: 5.4.0-53-generic
	Compiler: gcc 9.3
Ubuntu 20.04 ARM Clang Native
	Kernel: 5.4.0-53-generic
	Compiler: clang 10.0.0-4ubuntu1
Windows Server 2019
	Kernel: 10.0
	Compiler: clang 14.0 and gcc 8.1.0 (MinGW)
Debian Buster
	Kernel: 5.4.0-122-generic
	Compiler: gcc 8.3.0-6
To view detailed results, visit:
https://lab.dpdk.org/results/dashboard/patchsets/24655/
UNH-IOL DPDK Community Lab
To manage your email subscriptions, visit: 
https://lab.dpdk.org/results/dashboard/preferences/subscriptions/
    
    
More information about the test-report
mailing list