|SUCCESS| [GIT MASTER] 9dae7a15aea76313c592c11db44e1386e85f86fe
    dpdklab at iol.unh.edu 
    dpdklab at iol.unh.edu
       
    Mon Dec 12 07:05:44 CET 2022
    
    
  
_Testing PASS_
Branch: tags/v22.11
9dae7a15aea76313c592c11db44e1386e85f86fe --> testing pass
Test environment and result as below:
+------------------------------------+--------------------+----------------------+----------------+
|            Environment             | dpdk_meson_compile | dpdk_mingw64_compile | dpdk_unit_test |
+====================================+====================+======================+================+
| Windows Server 2019                | PASS               | PASS                 | PASS           |
+------------------------------------+--------------------+----------------------+----------------+
| FreeBSD 13                         | PASS               | SKIPPED              | SKIPPED        |
+------------------------------------+--------------------+----------------------+----------------+
| Ubuntu 20.04 ARM GCC Native        | PASS               | SKIPPED              | PASS           |
+------------------------------------+--------------------+----------------------+----------------+
| Ubuntu 20.04 ARM Clang Native      | PASS               | SKIPPED              | PASS           |
+------------------------------------+--------------------+----------------------+----------------+
| CentOS Stream 8                    | PASS               | SKIPPED              | SKIPPED        |
+------------------------------------+--------------------+----------------------+----------------+
| Ubuntu 20.04 ARM GCC Cross Compile | PASS               | SKIPPED              | SKIPPED        |
+------------------------------------+--------------------+----------------------+----------------+
| Debian Buster                      | SKIPPED            | SKIPPED              | PASS           |
+------------------------------------+--------------------+----------------------+----------------+
| Debian Bullseye                    | SKIPPED            | SKIPPED              | PASS           |
+------------------------------------+--------------------+----------------------+----------------+
| RHEL 7                             | SKIPPED            | SKIPPED              | PASS           |
+------------------------------------+--------------------+----------------------+----------------+
Windows Server 2019
	Kernel: 10.0
	Compiler: clang 14.0 and gcc 8.1.0 (MinGW)
FreeBSD 13
	Kernel: 13.0
	Compiler: clang 11.0.1
Ubuntu 20.04 ARM GCC Native
	Kernel: 5.4.0-53-generic
	Compiler: gcc 9.3
Ubuntu 20.04 ARM Clang Native
	Kernel: 5.4.0-53-generic
	Compiler: clang 10.0.0-4ubuntu1
CentOS Stream 8
	Kernel: 4.18.0-240.10.1.el8_3.x86_64
	Compiler: gcc 8.4.1 20200928
Ubuntu 20.04 ARM GCC Cross Compile
	Kernel: 5.4.0-72-generic
	Compiler: aarch64-linux-gnu-gcc (Ubuntu 9.3.0-17ubuntu1~20.04) 9.3.0
Debian Buster
	Kernel: 5.4.0-122-generic
	Compiler: gcc 8.3.0-6
Debian Bullseye
	Kernel: 5.4.0-122-generic
	Compiler: gcc 10.2.1-6
RHEL 7
	Kernel: 4.18.0-240.10.1.el8_3.x86_64
	Compiler: gcc 4.8.5 20150623 (Red Hat 4.8.5-44)
To view detailed results, visit:
https://lab.dpdk.org/results/dashboard/tarballs/22602/
UNH-IOL DPDK Community Lab
To manage your email subscriptions, visit: 
https://lab.dpdk.org/results/dashboard/preferences/subscriptions/
    
    
More information about the test-report
mailing list