|SUCCESS| pw120899-120900 [PATCH] [v2, 4/4] drivers: mlx5 use rte thread set name
    dpdklab at iol.unh.edu 
    dpdklab at iol.unh.edu
       
    Wed Dec 14 21:27:57 CET 2022
    
    
  
Test-Label: iol-testing
Test-Status: SUCCESS
http://dpdk.org/patch/120900
_Testing PASS_
Submitter: Tyler Retzlaff <roretzla at linux.microsoft.com>
Date: Wednesday, December 14 2022 16:47:21 
DPDK git baseline: Repo:dpdk
  Branch: master
  CommitID:c581c49cd3fcaff596fbe566e270b442e6326c79
120899-120900 --> testing pass
Test environment and result as below:
+-------------------------------+----------------+--------------------+----------------------+
|          Environment          | dpdk_unit_test | dpdk_meson_compile | dpdk_mingw64_compile |
+===============================+================+====================+======================+
| Ubuntu 20.04 ARM Clang Native | PASS           | PASS               | SKIPPED              |
+-------------------------------+----------------+--------------------+----------------------+
| Ubuntu 20.04 ARM GCC Native   | PASS           | PASS               | SKIPPED              |
+-------------------------------+----------------+--------------------+----------------------+
| Windows Server 2019           | PASS           | PASS               | PASS                 |
+-------------------------------+----------------+--------------------+----------------------+
| Ubuntu 22.04                  | PASS           | SKIPPED            | SKIPPED              |
+-------------------------------+----------------+--------------------+----------------------+
| FreeBSD 13                    | SKIPPED        | PASS               | SKIPPED              |
+-------------------------------+----------------+--------------------+----------------------+
Ubuntu 20.04 ARM Clang Native
	Kernel: 5.4.0-53-generic
	Compiler: clang 10.0.0-4ubuntu1
Ubuntu 20.04 ARM GCC Native
	Kernel: 5.4.0-53-generic
	Compiler: gcc 9.3
Windows Server 2019
	Kernel: 10.0
	Compiler: clang 14.0 and gcc 8.1.0 (MinGW)
Ubuntu 22.04
	Kernel: Container Host Kernel
	Compiler: clang 14.0.5-1.fc36
FreeBSD 13
	Kernel: 13.0
	Compiler: clang 11.0.1
To view detailed results, visit:
https://lab.dpdk.org/results/dashboard/patchsets/24737/
UNH-IOL DPDK Community Lab
To manage your email subscriptions, visit: 
https://lab.dpdk.org/results/dashboard/preferences/subscriptions/
    
    
More information about the test-report
mailing list