|SUCCESS| [GIT MASTER] 7a21adb82bd075fbc6418eca877459f5e6c3d229
    dpdklab at iol.unh.edu 
    dpdklab at iol.unh.edu
       
    Tue Dec 20 05:27:16 CET 2022
    
    
  
_Testing PASS_
Branch: tags/v21.11
7a21adb82bd075fbc6418eca877459f5e6c3d229 --> testing pass
Test environment and result as below:
+-------------------------------+--------------------+----------------------+----------------+
|          Environment          | dpdk_meson_compile | dpdk_mingw64_compile | dpdk_unit_test |
+===============================+====================+======================+================+
| FreeBSD 13                    | PASS               | SKIPPED              | SKIPPED        |
+-------------------------------+--------------------+----------------------+----------------+
| Windows Server 2019           | PASS               | PASS                 | PASS           |
+-------------------------------+--------------------+----------------------+----------------+
| Ubuntu 20.04 ARM GCC Native   | PASS               | SKIPPED              | PASS           |
+-------------------------------+--------------------+----------------------+----------------+
| Ubuntu 20.04 ARM Clang Native | PASS               | SKIPPED              | PASS           |
+-------------------------------+--------------------+----------------------+----------------+
| RHEL8                         | SKIPPED            | SKIPPED              | PASS           |
+-------------------------------+--------------------+----------------------+----------------+
FreeBSD 13
	Kernel: 13.0
	Compiler: clang 11.0.1
Windows Server 2019
	Kernel: 10.0
	Compiler: clang 14.0 and gcc 8.1.0 (MinGW)
Ubuntu 20.04 ARM GCC Native
	Kernel: 5.4.0-53-generic
	Compiler: gcc 9.3
Ubuntu 20.04 ARM Clang Native
	Kernel: 5.4.0-53-generic
	Compiler: clang 10.0.0-4ubuntu1
RHEL8
	Kernel: 4.18.0-240.10.1.el8_3.x86_64
	Compiler: gcc 8.3.1 20191121 (Red Hat 8.3.1-5)
To view detailed results, visit:
https://lab.dpdk.org/results/dashboard/tarballs/22678/
UNH-IOL DPDK Community Lab
To manage your email subscriptions, visit: 
https://lab.dpdk.org/results/dashboard/preferences/subscriptions/
    
    
More information about the test-report
mailing list