|SUCCESS| pw121048-121050 [PATCH] [3/3] net/igc: support IEEE 1588 PTP
    dpdklab at iol.unh.edu 
    dpdklab at iol.unh.edu
       
    Tue Dec 20 06:28:40 CET 2022
    
    
  
Test-Label: iol-testing
Test-Status: SUCCESS
http://dpdk.org/patch/121050
_Testing PASS_
Submitter: Simei Su <simei.su at intel.com>
Date: Tuesday, December 20 2022 03:41:03 
DPDK git baseline: Repo:dpdk
  Branch: master
  CommitID:c581c49cd3fcaff596fbe566e270b442e6326c79
121048-121050 --> testing pass
Test environment and result as below:
+-------------------------------+--------------------+----------------+----------------------+
|          Environment          | dpdk_meson_compile | dpdk_unit_test | dpdk_mingw64_compile |
+===============================+====================+================+======================+
| FreeBSD 13                    | PASS               | SKIPPED        | SKIPPED              |
+-------------------------------+--------------------+----------------+----------------------+
| Windows Server 2019           | PASS               | PASS           | PASS                 |
+-------------------------------+--------------------+----------------+----------------------+
| Ubuntu 20.04 ARM Clang Native | PASS               | PASS           | SKIPPED              |
+-------------------------------+--------------------+----------------+----------------------+
| Ubuntu 20.04 ARM GCC Native   | PASS               | PASS           | SKIPPED              |
+-------------------------------+--------------------+----------------+----------------------+
| CentOS Stream 8               | PASS               | PASS           | SKIPPED              |
+-------------------------------+--------------------+----------------+----------------------+
| Debian Bullseye               | SKIPPED            | PASS           | SKIPPED              |
+-------------------------------+--------------------+----------------+----------------------+
| Ubuntu 22.04                  | SKIPPED            | PASS           | SKIPPED              |
+-------------------------------+--------------------+----------------+----------------------+
FreeBSD 13
	Kernel: 13.0
	Compiler: clang 11.0.1
Windows Server 2019
	Kernel: 10.0
	Compiler: clang 14.0 and gcc 8.1.0 (MinGW)
Ubuntu 20.04 ARM Clang Native
	Kernel: 5.4.0-53-generic
	Compiler: clang 10.0.0-4ubuntu1
Ubuntu 20.04 ARM GCC Native
	Kernel: 5.4.0-53-generic
	Compiler: gcc 9.3
CentOS Stream 8
	Kernel: 4.18.0-240.10.1.el8_3.x86_64
	Compiler: gcc 8.4.1 20200928
Debian Bullseye
	Kernel: 5.4.0-122-generic
	Compiler: gcc 10.2.1-6
Ubuntu 22.04
	Kernel: 4.18.0-240.10.1.el8_3.x86_64
	Compiler: gcc 11.3.0
To view detailed results, visit:
https://lab.dpdk.org/results/dashboard/patchsets/24776/
UNH-IOL DPDK Community Lab
To manage your email subscriptions, visit: 
https://lab.dpdk.org/results/dashboard/preferences/subscriptions/
    
    
More information about the test-report
mailing list