|SUCCESS| [GIT MASTER] 31608e4db56893c896375288671b5ee38723a211
    dpdklab at iol.unh.edu 
    dpdklab at iol.unh.edu
       
    Fri Dec 23 07:57:08 CET 2022
    
    
  
_Testing PASS_
Branch: tags/v21.11
31608e4db56893c896375288671b5ee38723a211 --> testing pass
Test environment and result as below:
+------------------------------------+--------------------+----------------------+----------------+
|            Environment             | dpdk_meson_compile | dpdk_mingw64_compile | dpdk_unit_test |
+====================================+====================+======================+================+
| FreeBSD 13                         | PASS               | SKIPPED              | SKIPPED        |
+------------------------------------+--------------------+----------------------+----------------+
| Ubuntu 20.04 ARM Clang Native      | PASS               | SKIPPED              | PASS           |
+------------------------------------+--------------------+----------------------+----------------+
| Ubuntu 20.04 ARM GCC Native        | PASS               | SKIPPED              | PASS           |
+------------------------------------+--------------------+----------------------+----------------+
| Windows Server 2019                | PASS               | PASS                 | PASS           |
+------------------------------------+--------------------+----------------------+----------------+
| Debian Buster                      | PASS               | SKIPPED              | PASS           |
+------------------------------------+--------------------+----------------------+----------------+
| CentOS Stream 8                    | PASS               | SKIPPED              | PASS           |
+------------------------------------+--------------------+----------------------+----------------+
| Debian Bullseye                    | PASS               | SKIPPED              | PASS           |
+------------------------------------+--------------------+----------------------+----------------+
| CentOS Stream 9                    | PASS               | SKIPPED              | SKIPPED        |
+------------------------------------+--------------------+----------------------+----------------+
| Ubuntu 22.04                       | PASS               | SKIPPED              | SKIPPED        |
+------------------------------------+--------------------+----------------------+----------------+
| openSUSE Leap 15                   | PASS               | SKIPPED              | SKIPPED        |
+------------------------------------+--------------------+----------------------+----------------+
| RHEL 7                             | PASS               | SKIPPED              | PASS           |
+------------------------------------+--------------------+----------------------+----------------+
| RHEL8                              | PASS               | SKIPPED              | PASS           |
+------------------------------------+--------------------+----------------------+----------------+
| Ubuntu 20.04                       | PASS               | SKIPPED              | SKIPPED        |
+------------------------------------+--------------------+----------------------+----------------+
| Ubuntu 20.04 ARM GCC Cross Compile | PASS               | SKIPPED              | SKIPPED        |
+------------------------------------+--------------------+----------------------+----------------+
FreeBSD 13
	Kernel: 13.0
	Compiler: clang 11.0.1
Ubuntu 20.04 ARM Clang Native
	Kernel: 5.4.0-53-generic
	Compiler: clang 10.0.0-4ubuntu1
Ubuntu 20.04 ARM GCC Native
	Kernel: 5.4.0-53-generic
	Compiler: gcc 9.3
Windows Server 2019
	Kernel: 10.0
	Compiler: clang 14.0 and gcc 8.1.0 (MinGW)
Debian Buster
	Kernel: 5.4.0-122-generic
	Compiler: gcc 8.3.0-6
CentOS Stream 8
	Kernel: 4.18.0-240.10.1.el8_3.x86_64
	Compiler: gcc 8.4.1 20200928
Debian Bullseye
	Kernel: 5.4.0-122-generic
	Compiler: gcc 10.2.1-6
CentOS Stream 9
	Kernel: 4.18.0-240.10.1.el8_3.x86_64
	Compiler: gcc 11.3.1 20220421
Ubuntu 22.04
	Kernel: Container Host Kernel
	Compiler: clang 14.0.5-1.fc36
openSUSE Leap 15
	Kernel: 4.18.0-240.10.1.el8_3.x86_64
	Compiler: gcc 7.5.0
RHEL 7
	Kernel: 4.18.0-240.10.1.el8_3.x86_64
	Compiler: gcc 4.8.5 20150623 (Red Hat 4.8.5-44)
RHEL8
	Kernel: 4.18.0-240.10.1.el8_3.x86_64
	Compiler: gcc 8.3.1 20191121 (Red Hat 8.3.1-5)
Ubuntu 20.04
	Kernel: 4.18.0-240.10.1.el8_3.x86_64
	Compiler: gcc 9.3.0-17ubuntu1~20.04
Ubuntu 20.04 ARM GCC Cross Compile
	Kernel: 5.4.0-72-generic
	Compiler: aarch64-linux-gnu-gcc (Ubuntu 9.3.0-17ubuntu1~20.04) 9.3.0
To view detailed results, visit:
https://lab.dpdk.org/results/dashboard/tarballs/22720/
UNH-IOL DPDK Community Lab
To manage your email subscriptions, visit: 
https://lab.dpdk.org/results/dashboard/preferences/subscriptions/
    
    
More information about the test-report
mailing list