|SUCCESS| pw108428-108427 [PATCH] [v1, 2/2] gpudev: use page_size in comm_list creation

dpdklab at iol.unh.edu dpdklab at iol.unh.edu
Wed Mar 2 00:33:50 CET 2022


Test-Label: iol-abi-testing
Test-Status: SUCCESS
http://dpdk.org/patch/108427

_Testing PASS_

Submitter: Elena Agostini <eagostini at nvidia.com>
Date: Tuesday, March 01 2022 19:05:55 
DPDK git baseline: Repo:dpdk
  Branch: master
  CommitID:305769000c40a4fdf1ed0cf24c157b447b91ea7d

108428-108427 --> testing pass

Test environment and result as below:

+-----------------------------+----------+
|         Environment         | abi_test |
+=============================+==========+
| Ubuntu 18.04                | PASS     |
+-----------------------------+----------+
| Fedora 34                   | PASS     |
+-----------------------------+----------+
| Ubuntu 20.04 ARM GCC Native | PASS     |
+-----------------------------+----------+


Ubuntu 18.04
	Kernel: 4.18.0-240.10.1.el8_3.x86_64
	Compiler: gcc 7.5.0-3ubuntu1~18.04

Fedora 34
	Kernel: 5.4.0-72-generic
	Compiler: gcc 11.1.1 20210428 (Red Hat 11.1.1-1)

Ubuntu 20.04 ARM GCC Native
	Kernel: 5.4.0-53-generic
	Compiler: gcc 9.3

To view detailed results, visit:
https://lab.dpdk.org/results/dashboard/patchsets/21331/

UNH-IOL DPDK Community Lab

To manage your email subscriptions, visit: 
https://lab.dpdk.org/results/dashboard/preferences/subscriptions/


More information about the test-report mailing list