|SUCCESS| pw108479 [PATCH] app/compress-perf: fix number of QPs to setup

dpdklab at iol.unh.edu dpdklab at iol.unh.edu
Wed Mar 2 10:26:59 CET 2022


Test-Label: iol-x86_64-unit-testing
Test-Status: SUCCESS
http://dpdk.org/patch/108479

_Testing PASS_

Submitter: Raja Zidane <rzidane at nvidia.com>
Date: Wednesday, March 02 2022 08:41:31 
DPDK git baseline: Repo:dpdk
  Branch: master
  CommitID:305769000c40a4fdf1ed0cf24c157b447b91ea7d

108479 --> testing pass

Test environment and result as below:

+--------------+----------------+
| Environment  | dpdk_unit_test |
+==============+================+
| Fedora 33    | PASS           |
+--------------+----------------+
| Fedora 31    | PASS           |
+--------------+----------------+
| Ubuntu 18.04 | PASS           |
+--------------+----------------+
| Fedora 34    | PASS           |
+--------------+----------------+


Fedora 33
	Kernel: 5.4.0-72-generic
	Compiler: gcc 10.3.1 20210422 (Red Hat 10.3.1-1)

Fedora 31
	Kernel: 4.18.0-240.10.1.el8_3.x86_64
	Compiler: gcc 9.3.1

Ubuntu 18.04
	Kernel: 4.18.0-240.10.1.el8_3.x86_64
	Compiler: gcc 7.5.0-3ubuntu1~18.04

Fedora 34
	Kernel: 5.4.0-72-generic
	Compiler: gcc 11.1.1 20210428 (Red Hat 11.1.1-1)

To view detailed results, visit:
https://lab.dpdk.org/results/dashboard/patchsets/21359/

UNH-IOL DPDK Community Lab

To manage your email subscriptions, visit: 
https://lab.dpdk.org/results/dashboard/preferences/subscriptions/


More information about the test-report mailing list