|SUCCESS| pw108481 [PATCH] app/pdump: close program if --pdump argument is missing

dpdklab at iol.unh.edu dpdklab at iol.unh.edu
Wed Mar 2 10:58:20 CET 2022


Test-Label: iol-x86_64-unit-testing
Test-Status: SUCCESS
http://dpdk.org/patch/108481

_Testing PASS_

Submitter: usman.tanveer <usman.tanveer at emumba.com>
Date: Wednesday, March 02 2022 09:26:14 
DPDK git baseline: Repo:dpdk
  Branch: master
  CommitID:305769000c40a4fdf1ed0cf24c157b447b91ea7d

108481 --> testing pass

Test environment and result as below:

+-------------+----------------+
| Environment | dpdk_unit_test |
+=============+================+
| Fedora 31   | PASS           |
+-------------+----------------+
| Fedora 32   | PASS           |
+-------------+----------------+
| Fedora 34   | PASS           |
+-------------+----------------+


Fedora 31
	Kernel: 4.18.0-240.10.1.el8_3.x86_64
	Compiler: gcc 9.3.1

Fedora 32
	Kernel: 4.18.0-240.10.1.el8_3.x86_64
	Compiler: gcc 10.2.1

Fedora 34
	Kernel: 5.4.0-72-generic
	Compiler: gcc 11.1.1 20210428 (Red Hat 11.1.1-1)

To view detailed results, visit:
https://lab.dpdk.org/results/dashboard/patchsets/21361/

UNH-IOL DPDK Community Lab

To manage your email subscriptions, visit: 
https://lab.dpdk.org/results/dashboard/preferences/subscriptions/


More information about the test-report mailing list