|SUCCESS| pw108481 [PATCH] app/pdump: close program if --pdump argument is missing
dpdklab at iol.unh.edu
dpdklab at iol.unh.edu
Wed Mar 2 12:06:37 CET 2022
Test-Label: iol-abi-testing
Test-Status: SUCCESS
http://dpdk.org/patch/108481
_Testing PASS_
Submitter: usman.tanveer <usman.tanveer at emumba.com>
Date: Wednesday, March 02 2022 09:26:14
DPDK git baseline: Repo:dpdk
Branch: master
CommitID:305769000c40a4fdf1ed0cf24c157b447b91ea7d
108481 --> testing pass
Test environment and result as below:
+-----------------------------+----------+
| Environment | abi_test |
+=============================+==========+
| Ubuntu 20.04 ARM GCC Native | PASS |
+-----------------------------+----------+
| openSUSE Leap 15 | PASS |
+-----------------------------+----------+
| CentOS 8 | PASS |
+-----------------------------+----------+
Ubuntu 20.04 ARM GCC Native
Kernel: 5.4.0-53-generic
Compiler: gcc 9.3
openSUSE Leap 15
Kernel: 4.18.0-240.10.1.el8_3.x86_64
Compiler: gcc 7.5.0
CentOS 8
Kernel: 4.18.0-240.10.1.el8_3.x86_64
Compiler: gcc 8.3.1 20191121 (Red Hat 8.3.1-5)
To view detailed results, visit:
https://lab.dpdk.org/results/dashboard/patchsets/21361/
UNH-IOL DPDK Community Lab
To manage your email subscriptions, visit:
https://lab.dpdk.org/results/dashboard/preferences/subscriptions/
More information about the test-report
mailing list