|SUCCESS| pw108484 [PATCH] net/mlx5: fix flex item availability

dpdklab at iol.unh.edu dpdklab at iol.unh.edu
Wed Mar 2 12:46:30 CET 2022


Test-Label: iol-x86_64-unit-testing
Test-Status: SUCCESS
http://dpdk.org/patch/108484

_Testing PASS_

Submitter: Gregory Etelson <getelson at nvidia.com>
Date: Wednesday, March 02 2022 11:06:42 
DPDK git baseline: Repo:dpdk
  Branch: master
  CommitID:305769000c40a4fdf1ed0cf24c157b447b91ea7d

108484 --> testing pass

Test environment and result as below:

+--------------+----------------+
| Environment  | dpdk_unit_test |
+==============+================+
| Ubuntu 18.04 | PASS           |
+--------------+----------------+
| Arch Linux   | PASS           |
+--------------+----------------+
| CentOS 8     | PASS           |
+--------------+----------------+


Ubuntu 18.04
	Kernel: 4.18.0-240.10.1.el8_3.x86_64
	Compiler: gcc 7.5.0-3ubuntu1~18.04

Arch Linux
	Kernel: 5.4.0-73-generic
	Compiler: gcc 11.1.0

CentOS 8
	Kernel: 4.18.0-240.10.1.el8_3.x86_64
	Compiler: gcc 8.3.1 20191121 (Red Hat 8.3.1-5)

To view detailed results, visit:
https://lab.dpdk.org/results/dashboard/patchsets/21364/

UNH-IOL DPDK Community Lab

To manage your email subscriptions, visit: 
https://lab.dpdk.org/results/dashboard/preferences/subscriptions/


More information about the test-report mailing list