|SUCCESS| pw108733 [PATCH] [v1] raw/ifpga: initialize variable to avoid compile error

dpdklab at iol.unh.edu dpdklab at iol.unh.edu
Wed Mar 16 11:52:09 CET 2022


Test-Label: iol-x86_64-unit-testing
Test-Status: SUCCESS
http://dpdk.org/patch/108733

_Testing PASS_

Submitter: Wei Huang <wei.huang at intel.com>
Date: Wednesday, March 16 2022 07:26:30 
DPDK git baseline: Repo:dpdk
  Branch: master
  CommitID:0e45ace534e0582fedc052759585e8a1d5767531

108733 --> testing pass

Test environment and result as below:

+------------------+----------------+
|   Environment    | dpdk_unit_test |
+==================+================+
| CentOS Stream 8  | PASS           |
+------------------+----------------+
| Ubuntu 18.04     | PASS           |
+------------------+----------------+
| openSUSE Leap 15 | PASS           |
+------------------+----------------+


CentOS Stream 8
	Kernel: 4.18.0-240.10.1.el8_3.x86_64
	Compiler: gcc 8.4.1 20200928

Ubuntu 18.04
	Kernel: 4.18.0-240.10.1.el8_3.x86_64
	Compiler: gcc 7.5.0-3ubuntu1~18.04

openSUSE Leap 15
	Kernel: 4.18.0-240.10.1.el8_3.x86_64
	Compiler: gcc 7.5.0

To view detailed results, visit:
https://lab.dpdk.org/results/dashboard/patchsets/21501/

UNH-IOL DPDK Community Lab

To manage your email subscriptions, visit: 
https://lab.dpdk.org/results/dashboard/preferences/subscriptions/


More information about the test-report mailing list