|SUCCESS| pw108749 [PATCH] ixgbe/base: Manual AN-37 for troublesome link partners for X550 SFI
dpdklab at iol.unh.edu
dpdklab at iol.unh.edu
Wed Mar 16 21:14:35 CET 2022
Test-Label: iol-aarch64-unit-testing
Test-Status: SUCCESS
http://dpdk.org/patch/108749
_Testing PASS_
Submitter: Jeff Daly <jeffd at silicom-usa.com>
Date: Wednesday, March 16 2022 18:15:44
DPDK git baseline: Repo:dpdk
Branch: master
CommitID:0e45ace534e0582fedc052759585e8a1d5767531
108749 --> testing pass
Test environment and result as below:
+-------------------------------+----------------+--------------+
| Environment | dpdk_unit_test | lpm_autotest |
+===============================+================+==============+
| Ubuntu 20.04 ARM GCC Native | PASS | SKIPPED |
+-------------------------------+----------------+--------------+
| Ubuntu 20.04 ARM Clang Native | PASS | SKIPPED |
+-------------------------------+----------------+--------------+
| Ubuntu 20.04 ARM SVE | SKIPPED | PASS |
+-------------------------------+----------------+--------------+
Ubuntu 20.04 ARM GCC Native
Kernel: 5.4.0-53-generic
Compiler: gcc 9.3
Ubuntu 20.04 ARM Clang Native
Kernel: 5.4.0-53-generic
Compiler: clang 10.0.0-4ubuntu1
Ubuntu 20.04 ARM SVE
Kernel: 5.4.0-80-generic
Compiler: gcc 10.3.0 (Ubuntu 10.3.0-1ubuntu1~20.04)
To view detailed results, visit:
https://lab.dpdk.org/results/dashboard/patchsets/21507/
UNH-IOL DPDK Community Lab
To manage your email subscriptions, visit:
https://lab.dpdk.org/results/dashboard/preferences/subscriptions/
More information about the test-report
mailing list