|SUCCESS| pw116126 [PATCH] [v3] config/arm: add PHYTIUM tys2500
    dpdklab at iol.unh.edu 
    dpdklab at iol.unh.edu
       
    Fri Sep  9 11:16:57 CEST 2022
    
    
  
Test-Label: iol-aarch64-unit-testing
Test-Status: SUCCESS
http://dpdk.org/patch/116126
_Testing PASS_
Submitter: luzhipeng <luzhipeng at cestc.cn>
Date: Friday, September 09 2022 08:42:37 
DPDK git baseline: Repo:dpdk
  Branch: master
  CommitID:4aee6110bb10b0225fa9562f2e48af233a9058a1
116126 --> testing pass
Test environment and result as below:
+-------------------------------+--------------+----------------+
|          Environment          | lpm_autotest | dpdk_unit_test |
+===============================+==============+================+
| Ubuntu 20.04 ARM SVE          | PASS         | SKIPPED        |
+-------------------------------+--------------+----------------+
| Ubuntu 20.04 ARM Clang Native | SKIPPED      | PASS           |
+-------------------------------+--------------+----------------+
| Ubuntu 20.04 ARM GCC Native   | SKIPPED      | PASS           |
+-------------------------------+--------------+----------------+
Ubuntu 20.04 ARM SVE
	Kernel: 5.4.0-80-generic
	Compiler: gcc 10.3.0 (Ubuntu 10.3.0-1ubuntu1~20.04)
Ubuntu 20.04 ARM Clang Native
	Kernel: 5.4.0-53-generic
	Compiler: clang 10.0.0-4ubuntu1
Ubuntu 20.04 ARM GCC Native
	Kernel: 5.4.0-53-generic
	Compiler: gcc 9.3
To view detailed results, visit:
https://lab.dpdk.org/results/dashboard/patchsets/23461/
UNH-IOL DPDK Community Lab
To manage your email subscriptions, visit: 
https://lab.dpdk.org/results/dashboard/preferences/subscriptions/
    
    
More information about the test-report
mailing list