|SUCCESS| pw116721 [PATCH] gpu/cuda: fix build
dpdklab at iol.unh.edu
dpdklab at iol.unh.edu
Fri Sep 23 11:00:02 CEST 2022
Test-Label: iol-aarch64-compile-testing
Test-Status: SUCCESS
http://dpdk.org/patch/116721
_Testing PASS_
Submitter: Thomas Monjalon <thomas at monjalon.net>
Date: Friday, September 23 2022 08:25:53
DPDK git baseline: Repo:dpdk
Branch: master
CommitID:d2384afb4776b4f775bfe238aaa7912423335ebd
116721 --> testing pass
Test environment and result as below:
+----------------------------------------+--------------------+
| Environment | dpdk_meson_compile |
+========================================+====================+
| Ubuntu 20.04 ARM SVE | PASS |
+----------------------------------------+--------------------+
| Ubuntu 20.04 ARM Clang Cross Compile | PASS |
+----------------------------------------+--------------------+
| Ubuntu 20.04 ARM GCC Cross Compile | PASS |
+----------------------------------------+--------------------+
| Ubuntu 20.04 aarch32 GCC Cross Compile | PASS |
+----------------------------------------+--------------------+
| Ubuntu 20.04 ARM GCC Native | PASS |
+----------------------------------------+--------------------+
| Ubuntu 20.04 ARM Clang Native | PASS |
+----------------------------------------+--------------------+
Ubuntu 20.04 ARM SVE
Kernel: 5.4.0-80-generic
Compiler: gcc 10.3.0 (Ubuntu 10.3.0-1ubuntu1~20.04)
Ubuntu 20.04 ARM Clang Cross Compile
Kernel: 5.4.0-72-generic
Compiler: clang version 10.0.0-4ubuntu1
Ubuntu 20.04 ARM GCC Cross Compile
Kernel: 5.4.0-72-generic
Compiler: aarch64-linux-gnu-gcc (Ubuntu 9.3.0-17ubuntu1~20.04) 9.3.0
Ubuntu 20.04 aarch32 GCC Cross Compile
Kernel: 5.4.0-72-generic
Compiler: gcc 9.3.0
Ubuntu 20.04 ARM GCC Native
Kernel: 5.4.0-53-generic
Compiler: gcc 9.3
Ubuntu 20.04 ARM Clang Native
Kernel: 5.4.0-53-generic
Compiler: clang 10.0.0-4ubuntu1
To view detailed results, visit:
https://lab.dpdk.org/results/dashboard/patchsets/23603/
UNH-IOL DPDK Community Lab
To manage your email subscriptions, visit:
https://lab.dpdk.org/results/dashboard/preferences/subscriptions/
More information about the test-report
mailing list