|SUCCESS| pw117039-117040 [PATCH] [2/2] net/ngbe: use new IEEE1588 flags
    dpdklab at iol.unh.edu 
    dpdklab at iol.unh.edu
       
    Wed Sep 28 09:54:18 CEST 2022
    
    
  
Test-Label: iol-aarch64-unit-testing
Test-Status: SUCCESS
http://dpdk.org/patch/117040
_Testing PASS_
Submitter: Gagandeep Singh <g.singh at nxp.com>
Date: Wednesday, September 28 2022 07:14:06 
DPDK git baseline: Repo:dpdk
  Branch: master
  CommitID:3fe71706abc1f13294c82477a0538047f8e4ebbf
117039-117040 --> testing pass
Test environment and result as below:
+-------------------------------+--------------+----------------+
|          Environment          | lpm_autotest | dpdk_unit_test |
+===============================+==============+================+
| Ubuntu 20.04 ARM SVE          | PASS         | SKIPPED        |
+-------------------------------+--------------+----------------+
| Ubuntu 20.04 ARM GCC Native   | SKIPPED      | PASS           |
+-------------------------------+--------------+----------------+
| Ubuntu 20.04 ARM Clang Native | SKIPPED      | PASS           |
+-------------------------------+--------------+----------------+
Ubuntu 20.04 ARM SVE
	Kernel: 5.4.0-80-generic
	Compiler: gcc 10.3.0 (Ubuntu 10.3.0-1ubuntu1~20.04)
Ubuntu 20.04 ARM GCC Native
	Kernel: 5.4.0-53-generic
	Compiler: gcc 9.3
Ubuntu 20.04 ARM Clang Native
	Kernel: 5.4.0-53-generic
	Compiler: clang 10.0.0-4ubuntu1
To view detailed results, visit:
https://lab.dpdk.org/results/dashboard/patchsets/23674/
UNH-IOL DPDK Community Lab
To manage your email subscriptions, visit: 
https://lab.dpdk.org/results/dashboard/preferences/subscriptions/
    
    
More information about the test-report
mailing list