|SUCCESS| [GIT MASTER] 1f19b694ddf7037bec437d0d6ee7118a0369f4f5
    dpdklab at iol.unh.edu 
    dpdklab at iol.unh.edu
       
    Fri Sep 30 11:05:48 CEST 2022
    
    
  
_Testing PASS_
Branch: tags/v20.11
1f19b694ddf7037bec437d0d6ee7118a0369f4f5 --> testing pass
Test environment and result as below:
+------------------------------------+--------------------+
|            Environment             | dpdk_meson_compile |
+====================================+====================+
| Ubuntu 20.04 ARM GCC Cross Compile | PASS               |
+------------------------------------+--------------------+
| Ubuntu 20.04 ARM GCC Native        | PASS               |
+------------------------------------+--------------------+
| Ubuntu 20.04 ARM Clang Native      | PASS               |
+------------------------------------+--------------------+
| Ubuntu 20.04 ARM SVE               | PASS               |
+------------------------------------+--------------------+
Ubuntu 20.04 ARM GCC Cross Compile
	Kernel: 5.4.0-72-generic
	Compiler: aarch64-linux-gnu-gcc (Ubuntu 9.3.0-17ubuntu1~20.04) 9.3.0
Ubuntu 20.04 ARM GCC Native
	Kernel: 5.4.0-53-generic
	Compiler: gcc 9.3
Ubuntu 20.04 ARM Clang Native
	Kernel: 5.4.0-53-generic
	Compiler: clang 10.0.0-4ubuntu1
Ubuntu 20.04 ARM SVE
	Kernel: 5.4.0-80-generic
	Compiler: gcc 10.3.0 (Ubuntu 10.3.0-1ubuntu1~20.04)
To view detailed results, visit:
https://lab.dpdk.org/results/dashboard/tarballs/21561/
UNH-IOL DPDK Community Lab
To manage your email subscriptions, visit: 
https://lab.dpdk.org/results/dashboard/preferences/subscriptions/
    
    
More information about the test-report
mailing list