|SUCCESS| pw117209 [PATCH] examples/ipsec-secgw: fix Tx checksum offload flag
    dpdklab at iol.unh.edu 
    dpdklab at iol.unh.edu
       
    Fri Sep 30 15:19:37 CEST 2022
    
    
  
Test-Label: iol-aarch64-unit-testing
Test-Status: SUCCESS
http://dpdk.org/patch/117209
_Testing PASS_
Submitter: Radu Nicolau <radu.nicolau at intel.com>
Date: Friday, September 30 2022 12:40:55 
DPDK git baseline: Repo:dpdk
  Branch: master
  CommitID:6de9af249177cee6baceb31e9b73b4df5e34fac7
117209 --> testing pass
Test environment and result as below:
+-------------------------------+--------------+----------------+
|          Environment          | lpm_autotest | dpdk_unit_test |
+===============================+==============+================+
| Ubuntu 20.04 ARM SVE          | PASS         | SKIPPED        |
+-------------------------------+--------------+----------------+
| Ubuntu 20.04 ARM GCC Native   | SKIPPED      | PASS           |
+-------------------------------+--------------+----------------+
| Ubuntu 20.04 ARM Clang Native | SKIPPED      | PASS           |
+-------------------------------+--------------+----------------+
Ubuntu 20.04 ARM SVE
	Kernel: 5.4.0-80-generic
	Compiler: gcc 10.3.0 (Ubuntu 10.3.0-1ubuntu1~20.04)
Ubuntu 20.04 ARM GCC Native
	Kernel: 5.4.0-53-generic
	Compiler: gcc 9.3
Ubuntu 20.04 ARM Clang Native
	Kernel: 5.4.0-53-generic
	Compiler: clang 10.0.0-4ubuntu1
To view detailed results, visit:
https://lab.dpdk.org/results/dashboard/patchsets/23731/
UNH-IOL DPDK Community Lab
To manage your email subscriptions, visit: 
https://lab.dpdk.org/results/dashboard/preferences/subscriptions/
    
    
More information about the test-report
mailing list