|SUCCESS| pw124608 [PATCH] crypto/qat: fix SM3 auth mode

dpdklab at iol.unh.edu dpdklab at iol.unh.edu
Wed Mar 1 21:39:37 CET 2023


Test-Label: iol-aarch64-unit-testing
Test-Status: SUCCESS
http://dpdk.org/patch/124608

_Testing PASS_

Submitter: Ciara Power <ciara.power at intel.com>
Date: Wednesday, March 01 2023 13:59:15 
DPDK git baseline: Repo:dpdk
  Branch: master
  CommitID:4ef69b2877a24ddb89afaf4bb6f4e73bb52a605b

124608 --> testing pass

Test environment and result as below:

+----------------------+--------------+---------------------------+------------------------------+
|     Environment      | lpm_autotest | cryptodev_sw_zuc_autotest | cryptodev_sw_snow3g_autotest |
+======================+==============+===========================+==============================+
| Ubuntu 20.04 ARM SVE | PASS         | SKIPPED                   | SKIPPED                      |
+----------------------+--------------+---------------------------+------------------------------+
| Debian 11            | SKIPPED      | PASS                      | PASS                         |
+----------------------+--------------+---------------------------+------------------------------+


Ubuntu 20.04 ARM SVE
	Kernel: 5.4.0-80-generic
	Compiler: gcc 10.3.0 (Ubuntu 10.3.0-1ubuntu1~20.04)

Debian 11
	Kernel: Container Host Kernel
	Compiler: gcc 10.2.1

To view detailed results, visit:
https://lab.dpdk.org/results/dashboard/patchsets/25575/

UNH-IOL DPDK Community Lab

To manage your email subscriptions, visit: 
https://lab.dpdk.org/results/dashboard/preferences/subscriptions/


More information about the test-report mailing list