|SUCCESS| [GIT MASTER] 4ef69b2877a24ddb89afaf4bb6f4e73bb52a605b

dpdklab at iol.unh.edu dpdklab at iol.unh.edu
Thu Mar 2 00:38:39 CET 2023


_Testing PASS_

Branch: dpdk

4ef69b2877a24ddb89afaf4bb6f4e73bb52a605b --> testing pass

Test environment and result as below:

+-------------------------------+---------------------------+------------------------------+--------------+----------------+
|          Environment          | cryptodev_sw_zuc_autotest | cryptodev_sw_snow3g_autotest | lpm_autotest | dpdk_unit_test |
+===============================+===========================+==============================+==============+================+
| Debian 11                     | PASS                      | PASS                         | SKIPPED      | SKIPPED        |
+-------------------------------+---------------------------+------------------------------+--------------+----------------+
| Ubuntu 20.04 ARM SVE          | SKIPPED                   | SKIPPED                      | PASS         | SKIPPED        |
+-------------------------------+---------------------------+------------------------------+--------------+----------------+
| Ubuntu 20.04 ARM Clang Native | SKIPPED                   | SKIPPED                      | SKIPPED      | PASS           |
+-------------------------------+---------------------------+------------------------------+--------------+----------------+
| Ubuntu 20.04 ARM GCC Native   | SKIPPED                   | SKIPPED                      | SKIPPED      | PASS           |
+-------------------------------+---------------------------+------------------------------+--------------+----------------+


Debian 11
	Kernel: Container Host Kernel
	Compiler: gcc 10.2.1

Ubuntu 20.04 ARM SVE
	Kernel: 5.4.0-80-generic
	Compiler: gcc 10.3.0 (Ubuntu 10.3.0-1ubuntu1~20.04)

Ubuntu 20.04 ARM Clang Native
	Kernel: 5.4.0-53-generic
	Compiler: clang 10.0.0-4ubuntu1

Ubuntu 20.04 ARM GCC Native
	Kernel: 5.4.0-53-generic
	Compiler: gcc 9.3

To view detailed results, visit:
https://lab.dpdk.org/results/dashboard/tarballs/23584/

UNH-IOL DPDK Community Lab

To manage your email subscriptions, visit: 
https://lab.dpdk.org/results/dashboard/preferences/subscriptions/


More information about the test-report mailing list