|SUCCESS| pw124738-124753 [PATCH] [v3, 17/17] test/bbdev: remove iter count from bler test

dpdklab at iol.unh.edu dpdklab at iol.unh.edu
Fri Mar 3 07:19:42 CET 2023


Test-Label: iol-aarch64-unit-testing
Test-Status: SUCCESS
http://dpdk.org/patch/124753

_Testing PASS_

Submitter: Hernan Vargas <hernan.vargas at intel.com>
Date: Thursday, March 02 2023 20:22:11 
DPDK git baseline: Repo:dpdk
  Branch: master
  CommitID:4ef69b2877a24ddb89afaf4bb6f4e73bb52a605b

124738-124753 --> testing pass

Test environment and result as below:

+-------------------------------+---------------------------+------------------------------+----------------+--------------+
|          Environment          | cryptodev_sw_zuc_autotest | cryptodev_sw_snow3g_autotest | dpdk_unit_test | lpm_autotest |
+===============================+===========================+==============================+================+==============+
| Debian 11                     | PASS                      | PASS                         | SKIPPED        | SKIPPED      |
+-------------------------------+---------------------------+------------------------------+----------------+--------------+
| Ubuntu 20.04 ARM GCC Native   | SKIPPED                   | SKIPPED                      | PASS           | SKIPPED      |
+-------------------------------+---------------------------+------------------------------+----------------+--------------+
| Ubuntu 20.04 ARM Clang Native | SKIPPED                   | SKIPPED                      | PASS           | SKIPPED      |
+-------------------------------+---------------------------+------------------------------+----------------+--------------+
| Ubuntu 20.04 ARM SVE          | SKIPPED                   | SKIPPED                      | SKIPPED        | PASS         |
+-------------------------------+---------------------------+------------------------------+----------------+--------------+


Debian 11
	Kernel: Container Host Kernel
	Compiler: gcc 10.2.1

Ubuntu 20.04 ARM GCC Native
	Kernel: 5.4.0-53-generic
	Compiler: gcc 9.3

Ubuntu 20.04 ARM Clang Native
	Kernel: 5.4.0-53-generic
	Compiler: clang 10.0.0-4ubuntu1

Ubuntu 20.04 ARM SVE
	Kernel: 5.4.0-80-generic
	Compiler: gcc 10.3.0 (Ubuntu 10.3.0-1ubuntu1~20.04)

To view detailed results, visit:
https://lab.dpdk.org/results/dashboard/patchsets/25599/

UNH-IOL DPDK Community Lab

To manage your email subscriptions, visit: 
https://lab.dpdk.org/results/dashboard/preferences/subscriptions/


More information about the test-report mailing list