|SUCCESS| pw124782-124791 [PATCH] [v6, 10/10] doc: update dts setup and test suite cookbook

dpdklab at iol.unh.edu dpdklab at iol.unh.edu
Fri Mar 3 15:43:07 CET 2023


Test-Label: iol-aarch64-unit-testing
Test-Status: SUCCESS
http://dpdk.org/patch/124791

_Testing PASS_

Submitter: Juraj Linkes <juraj.linkes at pantheon.tech>
Date: Friday, March 03 2023 10:25:07 
DPDK git baseline: Repo:dpdk
  Branch: master
  CommitID:4ef69b2877a24ddb89afaf4bb6f4e73bb52a605b

124782-124791 --> testing pass

Test environment and result as below:

+-------------------------------+----------------+------------------------------+---------------------------+--------------+
|          Environment          | dpdk_unit_test | cryptodev_sw_snow3g_autotest | cryptodev_sw_zuc_autotest | lpm_autotest |
+===============================+================+==============================+===========================+==============+
| Ubuntu 20.04 ARM GCC Native   | PASS           | SKIPPED                      | SKIPPED                   | SKIPPED      |
+-------------------------------+----------------+------------------------------+---------------------------+--------------+
| Ubuntu 20.04 ARM Clang Native | PASS           | SKIPPED                      | SKIPPED                   | SKIPPED      |
+-------------------------------+----------------+------------------------------+---------------------------+--------------+
| Debian 11                     | SKIPPED        | PASS                         | PASS                      | SKIPPED      |
+-------------------------------+----------------+------------------------------+---------------------------+--------------+
| Ubuntu 20.04 ARM SVE          | SKIPPED        | SKIPPED                      | SKIPPED                   | PASS         |
+-------------------------------+----------------+------------------------------+---------------------------+--------------+


Ubuntu 20.04 ARM GCC Native
	Kernel: 5.4.0-53-generic
	Compiler: gcc 9.3

Ubuntu 20.04 ARM Clang Native
	Kernel: 5.4.0-53-generic
	Compiler: clang 10.0.0-4ubuntu1

Debian 11
	Kernel: Container Host Kernel
	Compiler: gcc 10.2.1

Ubuntu 20.04 ARM SVE
	Kernel: 5.4.0-80-generic
	Compiler: gcc 10.3.0 (Ubuntu 10.3.0-1ubuntu1~20.04)

To view detailed results, visit:
https://lab.dpdk.org/results/dashboard/patchsets/25605/

UNH-IOL DPDK Community Lab

To manage your email subscriptions, visit: 
https://lab.dpdk.org/results/dashboard/preferences/subscriptions/


More information about the test-report mailing list