|SUCCESS| pw124713-124715 [PATCH] [v3, 3/3] net/mlx5: fix Windows build with MinGW GCC 12
dpdklab at iol.unh.edu
dpdklab at iol.unh.edu
Sat Mar 4 08:43:46 CET 2023
Test-Label: iol-aarch64-compile-testing
Test-Status: SUCCESS
http://dpdk.org/patch/124715
_Testing PASS_
Submitter: Thomas Monjalon <thomas at monjalon.net>
Date: Thursday, March 02 2023 13:21:50
DPDK git baseline: Repo:dpdk
Branch: master
CommitID:4ef69b2877a24ddb89afaf4bb6f4e73bb52a605b
124713-124715 --> testing pass
Test environment and result as below:
+----------------------------------------+--------------------+
| Environment | dpdk_meson_compile |
+========================================+====================+
| Ubuntu 20.04 ARM GCC Native | PASS |
+----------------------------------------+--------------------+
| Ubuntu 20.04 ARM Clang Native | PASS |
+----------------------------------------+--------------------+
| Ubuntu 20.04 ARM GCC Cross Compile | PASS |
+----------------------------------------+--------------------+
| Ubuntu 20.04 aarch32 GCC Cross Compile | PASS |
+----------------------------------------+--------------------+
| Ubuntu 20.04 ARM Clang Cross Compile | PASS |
+----------------------------------------+--------------------+
| Ubuntu 20.04 ARM SVE | PASS |
+----------------------------------------+--------------------+
Ubuntu 20.04 ARM GCC Native
Kernel: 5.4.0-53-generic
Compiler: gcc 9.3
Ubuntu 20.04 ARM Clang Native
Kernel: 5.4.0-53-generic
Compiler: clang 10.0.0-4ubuntu1
Ubuntu 20.04 ARM GCC Cross Compile
Kernel: 5.4.0-72-generic
Compiler: aarch64-linux-gnu-gcc (Ubuntu 9.3.0-17ubuntu1~20.04) 9.3.0
Ubuntu 20.04 aarch32 GCC Cross Compile
Kernel: 5.4.0-72-generic
Compiler: gcc 9.3.0
Ubuntu 20.04 ARM Clang Cross Compile
Kernel: 5.4.0-72-generic
Compiler: clang version 10.0.0-4ubuntu1
Ubuntu 20.04 ARM SVE
Kernel: 5.4.0-80-generic
Compiler: gcc 10.3.0 (Ubuntu 10.3.0-1ubuntu1~20.04)
To view detailed results, visit:
https://lab.dpdk.org/results/dashboard/patchsets/25595/
UNH-IOL DPDK Community Lab
To manage your email subscriptions, visit:
https://lab.dpdk.org/results/dashboard/preferences/subscriptions/
More information about the test-report
mailing list