|SUCCESS| pw124803 [PATCH] [v3] log: add timestamp for log

dpdklab at iol.unh.edu dpdklab at iol.unh.edu
Sat Mar 4 10:18:35 CET 2023


Test-Label: iol-aarch64-unit-testing
Test-Status: SUCCESS
http://dpdk.org/patch/124803

_Testing PASS_

Submitter: luzhipeng <luzhipeng at cestc.cn>
Date: Saturday, March 04 2023 08:14:21 
DPDK git baseline: Repo:dpdk
  Branch: master
  CommitID:4ef69b2877a24ddb89afaf4bb6f4e73bb52a605b

124803 --> testing pass

Test environment and result as below:

+-------------------------------+----------------+--------------+---------------------------+------------------------------+
|          Environment          | dpdk_unit_test | lpm_autotest | cryptodev_sw_zuc_autotest | cryptodev_sw_snow3g_autotest |
+===============================+================+==============+===========================+==============================+
| Ubuntu 20.04 ARM GCC Native   | PASS           | SKIPPED      | SKIPPED                   | SKIPPED                      |
+-------------------------------+----------------+--------------+---------------------------+------------------------------+
| Ubuntu 20.04 ARM Clang Native | PASS           | SKIPPED      | SKIPPED                   | SKIPPED                      |
+-------------------------------+----------------+--------------+---------------------------+------------------------------+
| Ubuntu 20.04 ARM SVE          | SKIPPED        | PASS         | SKIPPED                   | SKIPPED                      |
+-------------------------------+----------------+--------------+---------------------------+------------------------------+
| Debian 11                     | SKIPPED        | SKIPPED      | PASS                      | PASS                         |
+-------------------------------+----------------+--------------+---------------------------+------------------------------+


Ubuntu 20.04 ARM GCC Native
	Kernel: 5.4.0-53-generic
	Compiler: gcc 9.3

Ubuntu 20.04 ARM Clang Native
	Kernel: 5.4.0-53-generic
	Compiler: clang 10.0.0-4ubuntu1

Ubuntu 20.04 ARM SVE
	Kernel: 5.4.0-80-generic
	Compiler: gcc 10.3.0 (Ubuntu 10.3.0-1ubuntu1~20.04)

Debian 11
	Kernel: Container Host Kernel
	Compiler: gcc 10.2.1

To view detailed results, visit:
https://lab.dpdk.org/results/dashboard/patchsets/25613/

UNH-IOL DPDK Community Lab

To manage your email subscriptions, visit: 
https://lab.dpdk.org/results/dashboard/preferences/subscriptions/


More information about the test-report mailing list