|SUCCESS| pw124818-124819 [PATCH] [v2, 2/2] drivers: skip build of sub-libs not supporting IOVA mode
dpdklab at iol.unh.edu
dpdklab at iol.unh.edu
Mon Mar 6 21:26:43 CET 2023
Test-Label: iol-aarch64-unit-testing
Test-Status: SUCCESS
http://dpdk.org/patch/124819
_Testing PASS_
Submitter: Thomas Monjalon <thomas at monjalon.net>
Date: Monday, March 06 2023 16:13:28
DPDK git baseline: Repo:dpdk
Branch: master
CommitID:e0fb0051ff8f621a2b001d9243cebe50f3d42cf5
124818-124819 --> testing pass
Test environment and result as below:
+-------------------------------+----------------+------------------------------+---------------------------+--------------+
| Environment | dpdk_unit_test | cryptodev_sw_snow3g_autotest | cryptodev_sw_zuc_autotest | lpm_autotest |
+===============================+================+==============================+===========================+==============+
| Ubuntu 20.04 ARM GCC Native | PASS | SKIPPED | SKIPPED | SKIPPED |
+-------------------------------+----------------+------------------------------+---------------------------+--------------+
| Ubuntu 20.04 ARM Clang Native | PASS | SKIPPED | SKIPPED | SKIPPED |
+-------------------------------+----------------+------------------------------+---------------------------+--------------+
| Debian 11 | SKIPPED | PASS | PASS | SKIPPED |
+-------------------------------+----------------+------------------------------+---------------------------+--------------+
| Ubuntu 20.04 ARM SVE | SKIPPED | SKIPPED | SKIPPED | PASS |
+-------------------------------+----------------+------------------------------+---------------------------+--------------+
Ubuntu 20.04 ARM GCC Native
Kernel: 5.4.0-53-generic
Compiler: gcc 9.3
Ubuntu 20.04 ARM Clang Native
Kernel: 5.4.0-53-generic
Compiler: clang 10.0.0-4ubuntu1
Debian 11
Kernel: Container Host Kernel
Compiler: gcc 10.2.1
Ubuntu 20.04 ARM SVE
Kernel: 5.4.0-80-generic
Compiler: gcc 10.3.0 (Ubuntu 10.3.0-1ubuntu1~20.04)
To view detailed results, visit:
https://lab.dpdk.org/results/dashboard/patchsets/25627/
UNH-IOL DPDK Community Lab
To manage your email subscriptions, visit:
https://lab.dpdk.org/results/dashboard/preferences/subscriptions/
More information about the test-report
mailing list