|SUCCESS| [GIT MASTER] 22958eb6fddec06a0efb8a2c096f1ff1a5817f1f

dpdklab at iol.unh.edu dpdklab at iol.unh.edu
Tue Mar 7 20:40:39 CET 2023


_Testing PASS_

Branch: dpdk-next-net

22958eb6fddec06a0efb8a2c096f1ff1a5817f1f --> testing pass

Test environment and result as below:

+----------------------------------------+--------------------+----------------------+----------------+
|              Environment               | dpdk_meson_compile | dpdk_mingw64_compile | dpdk_unit_test |
+========================================+====================+======================+================+
| Ubuntu 20.04 ARM Clang Native          | PASS               | SKIPPED              | PASS           |
+----------------------------------------+--------------------+----------------------+----------------+
| Ubuntu 20.04 ARM GCC Native            | PASS               | SKIPPED              | PASS           |
+----------------------------------------+--------------------+----------------------+----------------+
| FreeBSD 13                             | PASS               | SKIPPED              | SKIPPED        |
+----------------------------------------+--------------------+----------------------+----------------+
| Windows Server 2019                    | PASS               | PASS                 | PASS           |
+----------------------------------------+--------------------+----------------------+----------------+
| Ubuntu 20.04 aarch32 GCC Cross Compile | PASS               | SKIPPED              | SKIPPED        |
+----------------------------------------+--------------------+----------------------+----------------+
| openSUSE Leap 15                       | PASS               | SKIPPED              | SKIPPED        |
+----------------------------------------+--------------------+----------------------+----------------+
| Debian Buster                          | SKIPPED            | SKIPPED              | PASS           |
+----------------------------------------+--------------------+----------------------+----------------+


Ubuntu 20.04 ARM Clang Native
	Kernel: 5.4.0-53-generic
	Compiler: clang 10.0.0-4ubuntu1

Ubuntu 20.04 ARM GCC Native
	Kernel: 5.4.0-53-generic
	Compiler: gcc 9.3

FreeBSD 13
	Kernel: 13.0
	Compiler: clang 11.0.1

Windows Server 2019
	Kernel: 10.0
	Compiler: clang 14.0 and gcc 8.1.0 (MinGW)

Ubuntu 20.04 aarch32 GCC Cross Compile
	Kernel: 5.4.0-72-generic
	Compiler: gcc 9.3.0

openSUSE Leap 15
	Kernel: 4.18.0-240.10.1.el8_3.x86_64
	Compiler: gcc 7.5.0

Debian Buster
	Kernel: 5.4.0-122-generic
	Compiler: gcc 8.3.0-6

To view detailed results, visit:
https://lab.dpdk.org/results/dashboard/tarballs/23690/

UNH-IOL DPDK Community Lab

To manage your email subscriptions, visit: 
https://lab.dpdk.org/results/dashboard/preferences/subscriptions/


More information about the test-report mailing list