|SUCCESS| pw124840-124842 [PATCH] [3/3] app/test: add more cryptodev tests to meson suite
dpdklab at iol.unh.edu
dpdklab at iol.unh.edu
Tue Mar 7 23:57:00 CET 2023
Test-Label: iol-testing
Test-Status: SUCCESS
http://dpdk.org/patch/124842
_Testing PASS_
Submitter: Power, Ciara <ciara.power at intel.com>
Date: Tuesday, March 07 2023 17:17:34
DPDK git baseline: Repo:dpdk
Branch: master
CommitID:e0fb0051ff8f621a2b001d9243cebe50f3d42cf5
124840-124842 --> testing pass
Test environment and result as below:
+-------------------------------+--------------------+----------------------+----------------+
| Environment | dpdk_meson_compile | dpdk_mingw64_compile | dpdk_unit_test |
+===============================+====================+======================+================+
| FreeBSD 13 | PASS | SKIPPED | SKIPPED |
+-------------------------------+--------------------+----------------------+----------------+
| Windows Server 2019 | PASS | PASS | PASS |
+-------------------------------+--------------------+----------------------+----------------+
| Ubuntu 20.04 ARM GCC Native | PASS | SKIPPED | PASS |
+-------------------------------+--------------------+----------------------+----------------+
| Ubuntu 20.04 ARM Clang Native | PASS | SKIPPED | PASS |
+-------------------------------+--------------------+----------------------+----------------+
| RHEL 7 | SKIPPED | SKIPPED | PASS |
+-------------------------------+--------------------+----------------------+----------------+
FreeBSD 13
Kernel: 13.0
Compiler: clang 11.0.1
Windows Server 2019
Kernel: 10.0
Compiler: clang 14.0 and gcc 8.1.0 (MinGW)
Ubuntu 20.04 ARM GCC Native
Kernel: 5.4.0-53-generic
Compiler: gcc 9.3
Ubuntu 20.04 ARM Clang Native
Kernel: 5.4.0-53-generic
Compiler: clang 10.0.0-4ubuntu1
RHEL 7
Kernel: 4.18.0-240.10.1.el8_3.x86_64
Compiler: gcc 4.8.5 20150623 (Red Hat 4.8.5-44)
To view detailed results, visit:
https://lab.dpdk.org/results/dashboard/patchsets/25637/
UNH-IOL DPDK Community Lab
To manage your email subscriptions, visit:
https://lab.dpdk.org/results/dashboard/preferences/subscriptions/
More information about the test-report
mailing list