|SUCCESS| pw124840-124842 [PATCH] [3/3] app/test: add more cryptodev tests to meson suite

dpdklab at iol.unh.edu dpdklab at iol.unh.edu
Wed Mar 8 00:13:39 CET 2023


Test-Label: iol-aarch64-unit-testing
Test-Status: SUCCESS
http://dpdk.org/patch/124842

_Testing PASS_

Submitter: Power, Ciara <ciara.power at intel.com>
Date: Tuesday, March 07 2023 17:17:34 
DPDK git baseline: Repo:dpdk
  Branch: master
  CommitID:e0fb0051ff8f621a2b001d9243cebe50f3d42cf5

124840-124842 --> testing pass

Test environment and result as below:

+-------------------------------+----------------+---------------------------+------------------------------+--------------+
|          Environment          | dpdk_unit_test | cryptodev_sw_zuc_autotest | cryptodev_sw_snow3g_autotest | lpm_autotest |
+===============================+================+===========================+==============================+==============+
| Ubuntu 20.04 ARM Clang Native | PASS           | SKIPPED                   | SKIPPED                      | SKIPPED      |
+-------------------------------+----------------+---------------------------+------------------------------+--------------+
| Ubuntu 20.04 ARM GCC Native   | PASS           | SKIPPED                   | SKIPPED                      | SKIPPED      |
+-------------------------------+----------------+---------------------------+------------------------------+--------------+
| Debian 11                     | SKIPPED        | PASS                      | PASS                         | SKIPPED      |
+-------------------------------+----------------+---------------------------+------------------------------+--------------+
| Ubuntu 20.04 ARM SVE          | SKIPPED        | SKIPPED                   | SKIPPED                      | PASS         |
+-------------------------------+----------------+---------------------------+------------------------------+--------------+


Ubuntu 20.04 ARM Clang Native
	Kernel: 5.4.0-53-generic
	Compiler: clang 10.0.0-4ubuntu1

Ubuntu 20.04 ARM GCC Native
	Kernel: 5.4.0-53-generic
	Compiler: gcc 9.3

Debian 11
	Kernel: Container Host Kernel
	Compiler: gcc 10.2.1

Ubuntu 20.04 ARM SVE
	Kernel: 5.4.0-80-generic
	Compiler: gcc 10.3.0 (Ubuntu 10.3.0-1ubuntu1~20.04)

To view detailed results, visit:
https://lab.dpdk.org/results/dashboard/patchsets/25637/

UNH-IOL DPDK Community Lab

To manage your email subscriptions, visit: 
https://lab.dpdk.org/results/dashboard/preferences/subscriptions/


More information about the test-report mailing list