|SUCCESS| pw124870-124868 [PATCH] [2/2] vhost: refactor to follow new naming convention
dpdklab at iol.unh.edu
dpdklab at iol.unh.edu
Thu Mar 9 05:30:35 CET 2023
Test-Label: iol-testing
Test-Status: SUCCESS
http://dpdk.org/patch/124868
_Testing PASS_
Submitter: Nobuhiro MIKI <nmiki at yahoo-corp.jp>
Date: Thursday, March 09 2023 02:07:21
DPDK git baseline: Repo:dpdk
Branch: master
CommitID:8a44b2a511114d9bc658d934d6cf16a3d8150d6d
124870-124868 --> testing pass
Test environment and result as below:
+-------------------------------+--------------------+----------------------+----------------+
| Environment | dpdk_meson_compile | dpdk_mingw64_compile | dpdk_unit_test |
+===============================+====================+======================+================+
| FreeBSD 13 | PASS | SKIPPED | SKIPPED |
+-------------------------------+--------------------+----------------------+----------------+
| Windows Server 2019 | PASS | PASS | PASS |
+-------------------------------+--------------------+----------------------+----------------+
| Ubuntu 20.04 ARM GCC Native | PASS | SKIPPED | PASS |
+-------------------------------+--------------------+----------------------+----------------+
| Ubuntu 20.04 ARM Clang Native | PASS | SKIPPED | PASS |
+-------------------------------+--------------------+----------------------+----------------+
| Debian Buster | SKIPPED | SKIPPED | PASS |
+-------------------------------+--------------------+----------------------+----------------+
FreeBSD 13
Kernel: 13.0
Compiler: clang 11.0.1
Windows Server 2019
Kernel: 10.0
Compiler: clang 14.0 and gcc 8.1.0 (MinGW)
Ubuntu 20.04 ARM GCC Native
Kernel: 5.4.0-53-generic
Compiler: gcc 9.3
Ubuntu 20.04 ARM Clang Native
Kernel: 5.4.0-53-generic
Compiler: clang 10.0.0-4ubuntu1
Debian Buster
Kernel: 5.4.0-122-generic
Compiler: gcc 8.3.0-6
To view detailed results, visit:
https://lab.dpdk.org/results/dashboard/patchsets/25646/
UNH-IOL DPDK Community Lab
To manage your email subscriptions, visit:
https://lab.dpdk.org/results/dashboard/preferences/subscriptions/
More information about the test-report
mailing list