|SUCCESS| pw124870-124868 [PATCH] [2/2] vhost: refactor to follow new naming convention

dpdklab at iol.unh.edu dpdklab at iol.unh.edu
Thu Mar 9 05:55:20 CET 2023


Test-Label: iol-testing
Test-Status: SUCCESS
http://dpdk.org/patch/124868

_Testing PASS_

Submitter: Nobuhiro MIKI <nmiki at yahoo-corp.jp>
Date: Thursday, March 09 2023 02:07:21 
DPDK git baseline: Repo:dpdk
  Branch: master
  CommitID:8a44b2a511114d9bc658d934d6cf16a3d8150d6d

124870-124868 --> testing pass

Test environment and result as below:

+--------------------------------------+--------------------+----------------------+----------------+
|             Environment              | dpdk_meson_compile | dpdk_mingw64_compile | dpdk_unit_test |
+======================================+====================+======================+================+
| FreeBSD 13                           | PASS               | SKIPPED              | SKIPPED        |
+--------------------------------------+--------------------+----------------------+----------------+
| Windows Server 2019                  | PASS               | PASS                 | PASS           |
+--------------------------------------+--------------------+----------------------+----------------+
| Ubuntu 20.04 ARM GCC Native          | PASS               | SKIPPED              | PASS           |
+--------------------------------------+--------------------+----------------------+----------------+
| Ubuntu 20.04 ARM Clang Native        | PASS               | SKIPPED              | PASS           |
+--------------------------------------+--------------------+----------------------+----------------+
| CentOS Stream 9                      | PASS               | SKIPPED              | PASS           |
+--------------------------------------+--------------------+----------------------+----------------+
| Debian Buster                        | PASS               | SKIPPED              | PASS           |
+--------------------------------------+--------------------+----------------------+----------------+
| Ubuntu 22.04                         | PASS               | SKIPPED              | PASS           |
+--------------------------------------+--------------------+----------------------+----------------+
| openSUSE Leap 15                     | PASS               | SKIPPED              | SKIPPED        |
+--------------------------------------+--------------------+----------------------+----------------+
| Ubuntu 20.04                         | PASS               | SKIPPED              | PASS           |
+--------------------------------------+--------------------+----------------------+----------------+
| Ubuntu 20.04 ARM GCC Cross Compile   | PASS               | SKIPPED              | SKIPPED        |
+--------------------------------------+--------------------+----------------------+----------------+
| Debian Bullseye                      | PASS               | SKIPPED              | PASS           |
+--------------------------------------+--------------------+----------------------+----------------+
| Ubuntu 20.04 ARM Clang Cross Compile | PASS               | SKIPPED              | SKIPPED        |
+--------------------------------------+--------------------+----------------------+----------------+
| RHEL 7                               | SKIPPED            | SKIPPED              | PASS           |
+--------------------------------------+--------------------+----------------------+----------------+
| CentOS Stream 8                      | SKIPPED            | SKIPPED              | PASS           |
+--------------------------------------+--------------------+----------------------+----------------+


FreeBSD 13
	Kernel: 13.0
	Compiler: clang 11.0.1

Windows Server 2019
	Kernel: 10.0
	Compiler: clang 14.0 and gcc 8.1.0 (MinGW)

Ubuntu 20.04 ARM GCC Native
	Kernel: 5.4.0-53-generic
	Compiler: gcc 9.3

Ubuntu 20.04 ARM Clang Native
	Kernel: 5.4.0-53-generic
	Compiler: clang 10.0.0-4ubuntu1

CentOS Stream 9
	Kernel: 4.18.0-240.10.1.el8_3.x86_64
	Compiler: gcc 11.3.1 20220421

Debian Buster
	Kernel: 5.4.0-122-generic
	Compiler: gcc 8.3.0-6

Ubuntu 22.04
	Kernel: Container Host Kernel
	Compiler: gcc 11.3.1-2

openSUSE Leap 15
	Kernel: 4.18.0-240.10.1.el8_3.x86_64
	Compiler: gcc 7.5.0

Ubuntu 20.04
	Kernel: 4.18.0-240.10.1.el8_3.x86_64
	Compiler: gcc 9.3.0-17ubuntu1~20.04

Ubuntu 20.04 ARM GCC Cross Compile
	Kernel: 5.4.0-72-generic
	Compiler: aarch64-linux-gnu-gcc (Ubuntu 9.3.0-17ubuntu1~20.04) 9.3.0

Debian Bullseye
	Kernel: 5.4.0-122-generic
	Compiler: gcc 10.2.1-6

Ubuntu 20.04 ARM Clang Cross Compile
	Kernel: 5.4.0-72-generic
	Compiler: clang version 10.0.0-4ubuntu1

RHEL 7
	Kernel: 4.18.0-240.10.1.el8_3.x86_64
	Compiler: gcc 4.8.5 20150623 (Red Hat 4.8.5-44)

CentOS Stream 8
	Kernel: 4.18.0-240.10.1.el8_3.x86_64
	Compiler: gcc 8.4.1 20200928

To view detailed results, visit:
https://lab.dpdk.org/results/dashboard/patchsets/25646/

UNH-IOL DPDK Community Lab

To manage your email subscriptions, visit: 
https://lab.dpdk.org/results/dashboard/preferences/subscriptions/


More information about the test-report mailing list