|SUCCESS| pw124894 [PATCH] vhost: fix possible null pointer dereference
dpdklab at iol.unh.edu
dpdklab at iol.unh.edu
Thu Mar 9 15:50:20 CET 2023
Test-Label: iol-aarch64-unit-testing
Test-Status: SUCCESS
http://dpdk.org/patch/124894
_Testing PASS_
Submitter: Maxime Coquelin <maxime.coquelin at redhat.com>
Date: Thursday, March 09 2023 11:36:31
DPDK git baseline: Repo:dpdk
Branch: master
CommitID:8a44b2a511114d9bc658d934d6cf16a3d8150d6d
124894 --> testing pass
Test environment and result as below:
+-------------------------------+----------------+---------------------------+------------------------------+--------------+
| Environment | dpdk_unit_test | cryptodev_sw_zuc_autotest | cryptodev_sw_snow3g_autotest | lpm_autotest |
+===============================+================+===========================+==============================+==============+
| Ubuntu 20.04 ARM GCC Native | PASS | SKIPPED | SKIPPED | SKIPPED |
+-------------------------------+----------------+---------------------------+------------------------------+--------------+
| Ubuntu 20.04 ARM Clang Native | PASS | SKIPPED | SKIPPED | SKIPPED |
+-------------------------------+----------------+---------------------------+------------------------------+--------------+
| Debian 11 | SKIPPED | PASS | PASS | SKIPPED |
+-------------------------------+----------------+---------------------------+------------------------------+--------------+
| Ubuntu 20.04 ARM SVE | SKIPPED | SKIPPED | SKIPPED | PASS |
+-------------------------------+----------------+---------------------------+------------------------------+--------------+
Ubuntu 20.04 ARM GCC Native
Kernel: 5.4.0-53-generic
Compiler: gcc 9.3
Ubuntu 20.04 ARM Clang Native
Kernel: 5.4.0-53-generic
Compiler: clang 10.0.0-4ubuntu1
Debian 11
Kernel: Container Host Kernel
Compiler: gcc 10.2.1
Ubuntu 20.04 ARM SVE
Kernel: 5.4.0-80-generic
Compiler: gcc 10.3.0 (Ubuntu 10.3.0-1ubuntu1~20.04)
To view detailed results, visit:
https://lab.dpdk.org/results/dashboard/patchsets/25660/
UNH-IOL DPDK Community Lab
To manage your email subscriptions, visit:
https://lab.dpdk.org/results/dashboard/preferences/subscriptions/
More information about the test-report
mailing list