|SUCCESS| pw124894 [PATCH] vhost: fix possible null pointer dereference

dpdklab at iol.unh.edu dpdklab at iol.unh.edu
Thu Mar 9 16:59:17 CET 2023


Test-Label: iol-testing
Test-Status: SUCCESS
http://dpdk.org/patch/124894

_Testing PASS_

Submitter: Maxime Coquelin <maxime.coquelin at redhat.com>
Date: Thursday, March 09 2023 11:36:31 
DPDK git baseline: Repo:dpdk
  Branch: master
  CommitID:8a44b2a511114d9bc658d934d6cf16a3d8150d6d

124894 --> testing pass

Test environment and result as below:

+--------------------------------------+--------------------+----------------+----------------------+
|             Environment              | dpdk_meson_compile | dpdk_unit_test | dpdk_mingw64_compile |
+======================================+====================+================+======================+
| Ubuntu 20.04 ARM Clang Native        | PASS               | PASS           | SKIPPED              |
+--------------------------------------+--------------------+----------------+----------------------+
| Ubuntu 20.04 ARM GCC Native          | PASS               | PASS           | SKIPPED              |
+--------------------------------------+--------------------+----------------+----------------------+
| FreeBSD 13                           | PASS               | SKIPPED        | SKIPPED              |
+--------------------------------------+--------------------+----------------+----------------------+
| Windows Server 2019                  | PASS               | PASS           | PASS                 |
+--------------------------------------+--------------------+----------------+----------------------+
| Ubuntu 20.04 ARM Clang Cross Compile | PASS               | SKIPPED        | SKIPPED              |
+--------------------------------------+--------------------+----------------+----------------------+
| Ubuntu 22.04                         | SKIPPED            | PASS           | SKIPPED              |
+--------------------------------------+--------------------+----------------+----------------------+
| openSUSE Leap 15                     | SKIPPED            | PASS           | SKIPPED              |
+--------------------------------------+--------------------+----------------+----------------------+


Ubuntu 20.04 ARM Clang Native
	Kernel: 5.4.0-53-generic
	Compiler: clang 10.0.0-4ubuntu1

Ubuntu 20.04 ARM GCC Native
	Kernel: 5.4.0-53-generic
	Compiler: gcc 9.3

FreeBSD 13
	Kernel: 13.0
	Compiler: clang 11.0.1

Windows Server 2019
	Kernel: 10.0
	Compiler: clang 14.0 and gcc 8.1.0 (MinGW)

Ubuntu 20.04 ARM Clang Cross Compile
	Kernel: 5.4.0-72-generic
	Compiler: clang version 10.0.0-4ubuntu1

Ubuntu 22.04
	Kernel: Container Host Kernel
	Compiler: gcc 12.2.1-2

openSUSE Leap 15
	Kernel: 4.18.0-240.10.1.el8_3.x86_64
	Compiler: gcc 7.5.0

To view detailed results, visit:
https://lab.dpdk.org/results/dashboard/patchsets/25660/

UNH-IOL DPDK Community Lab

To manage your email subscriptions, visit: 
https://lab.dpdk.org/results/dashboard/preferences/subscriptions/


More information about the test-report mailing list