|SUCCESS| pw124914-124922 [PATCH] [v5, 9/9] table: enable build on Windows
dpdklab at iol.unh.edu
dpdklab at iol.unh.edu
Fri Mar 10 04:20:36 CET 2023
Test-Label: iol-aarch64-unit-testing
Test-Status: SUCCESS
http://dpdk.org/patch/124922
_Testing PASS_
Submitter: Stephen Hemminger <stephen at networkplumber.org>
Date: Thursday, March 09 2023 21:31:28
DPDK git baseline: Repo:dpdk
Branch: master
CommitID:fc54766b1612b29c75fd39bd015f27dd57feec5f
124914-124922 --> testing pass
Test environment and result as below:
+-------------------------------+--------------+------------------------------+---------------------------+----------------+
| Environment | lpm_autotest | cryptodev_sw_snow3g_autotest | cryptodev_sw_zuc_autotest | dpdk_unit_test |
+===============================+==============+==============================+===========================+================+
| Ubuntu 20.04 ARM SVE | PASS | SKIPPED | SKIPPED | SKIPPED |
+-------------------------------+--------------+------------------------------+---------------------------+----------------+
| Debian 11 | SKIPPED | PASS | PASS | SKIPPED |
+-------------------------------+--------------+------------------------------+---------------------------+----------------+
| Ubuntu 20.04 ARM GCC Native | SKIPPED | SKIPPED | SKIPPED | PASS |
+-------------------------------+--------------+------------------------------+---------------------------+----------------+
| Ubuntu 20.04 ARM Clang Native | SKIPPED | SKIPPED | SKIPPED | PASS |
+-------------------------------+--------------+------------------------------+---------------------------+----------------+
Ubuntu 20.04 ARM SVE
Kernel: 5.4.0-80-generic
Compiler: gcc 10.3.0 (Ubuntu 10.3.0-1ubuntu1~20.04)
Debian 11
Kernel: Container Host Kernel
Compiler: gcc 10.2.1
Ubuntu 20.04 ARM GCC Native
Kernel: 5.4.0-53-generic
Compiler: gcc 9.3
Ubuntu 20.04 ARM Clang Native
Kernel: 5.4.0-53-generic
Compiler: clang 10.0.0-4ubuntu1
To view detailed results, visit:
https://lab.dpdk.org/results/dashboard/patchsets/25673/
UNH-IOL DPDK Community Lab
To manage your email subscriptions, visit:
https://lab.dpdk.org/results/dashboard/preferences/subscriptions/
More information about the test-report
mailing list